BEGIN:VCALENDAR
VERSION:2.0
PRODID:-//ChamberMaster//Event Calendar 2.0//EN
METHOD:PUBLISH
X-PUBLISHED-TTL:P3D
REFRESH-INTERVAL:P3D
CALSCALE:GREGORIAN
BEGIN:VEVENT
DTSTART:20190508T180000Z
DTEND:20190508T200000Z
X-MICROSOFT-CDO-ALLDAYEVENT:FALSE
SUMMARY:Social Media For Business & General Meeting
DESCRIPTION:These days\, social media for business is as much of a requirement as bilingualism in Parliament. Social media is a powerful (and not to mention FREE) tool that can be used to promote to\, engage with\, and learn about your customers. Social media and PR Coordinator for Jelly Digital Marketing & PR\, Jessica MacLeod\, explains how to find the right combination of platforms\, tools\, content\, and creativity\, that will provide maximum ROI. \n\n\n\nAbout The Speaker\n\nJessica MacLeod\, PR Coordinator - Jessica comes to Jelly with a wide range of experience in customer service\, experiential marketing\, brand promotions\, and social media. As a new university graduate\, Jessica is eager to contribute fresh ideas and build innovative campaigns for your brand. With a passion for social media\, she'll be sure to keep you connected to your customers and updated on all the latest social trends. When she's not scrolling through your feed\, you can find Jessica spending quality time with family and friends or hiking and camping in her own backyard (aka Beautiful British Columbia)!\n\n\n\nFollowing the presentation will be our General Meeting. Our Executive Director\, Flori Chaykowski\, will provide a brief report on Chamber activities past and future.
X-ALT-DESC;FMTTYPE=text/html:<br />\n<span style="color:#44546a\;"><span style="font-size:12px\;">These days\, social media for business is as much of a requirement as bilingualism in Parliament. Social media is a powerful (and not to mention FREE) tool that can be used to promote to\, engage with\, and learn about your customers. Social media and PR Coordinator for Jelly Digital Marketing &amp\; PR\, Jessica MacLeod\, explains how to find the right combination of platforms\, tools\, content\, and creativity\, that will provide maximum ROI.&nbsp\;</span></span><br />\n<br />\nAbout The Speaker<br />\nJessica MacLeod\, PR Coordinator - Jessica comes to Jelly with a wide range of experience in customer service\, experiential marketing\, brand promotions\, and social media. As a new university graduate\, Jessica is eager to contribute fresh ideas and build innovative campaigns for your brand. With a passion for social media\, she&rsquo\;ll be sure to keep you connected to your customers and updated on all the latest social trends. When she&rsquo\;s not scrolling through your feed\, you can find Jessica spending quality time with family and friends or hiking and camping in her own backyard (aka Beautiful British Columbia)!<br />\n<br />\n<span style="color: rgb(51\, 51\, 51)\; font-family: sans-serif\, Arial\, Verdana\, &quot\;Trebuchet MS&quot\;\; font-size: 13px\; background-color: rgb(255\, 255\, 255)\;">Following the presentation will be our General Meeting. Our Executive Director\, Flori Chaykowski\, will provide a brief report on Chamber activities past and future.</span>
LOCATION:Pitt Meadows Heritage Hall 12460 Harris Road\, Pitt Meadows
UID:e.1210.5477
SEQUENCE:3
DTSTAMP:20260420T095629Z
URL:https://business.ridgemeadowschamber.com/events/details/social-media-for-business-general-meeting-5477
END:VEVENT

END:VCALENDAR
