BEGIN:VCALENDAR
VERSION:2.0
PRODID:-//ChamberMaster//Event Calendar 2.0//EN
METHOD:PUBLISH
X-PUBLISHED-TTL:P3D
REFRESH-INTERVAL:P3D
CALSCALE:GREGORIAN
BEGIN:VEVENT
DTSTART:20190417T150000Z
DTEND:20190417T153000Z
X-MICROSOFT-CDO-ALLDAYEVENT:FALSE
SUMMARY:Mugs & Morning - Budget Talk with MLA Lisa Beare
DESCRIPTION:Please Join the Hon. Lisa Beare\, Minister of Tourism\, Arts and Culture\, and MLA for Maple Ridge-Pitt Meadows for a presentation on the 2019-2020 Provincial Budget.\n\n\n\nThe presentation will provide the business community with an overview of the recently unveiled Provincial budget and an update on the state of B.C.'s economy.\n\n\n\nDon't miss this opportunity to hear directly from the Province on how the 2019 Budget will impact your business and your family.
X-ALT-DESC;FMTTYPE=text/html:<br />\nPlease Join the Hon. Lisa Beare\, Minister of Tourism\, Arts and Culture\, and MLA for Maple Ridge-Pitt Meadows for a presentation on the 2019-2020 Provincial Budget.<br />\n<br />\nThe presentation will provide the business community with an overview of the recently unveiled Provincial budget and an update on the state of B.C.&rsquo\;s economy.<br />\n<br />\nDon&#39\;t miss this opportunity to hear directly from the Province on how the 2019 Budget will impact your business and your family.
LOCATION:Lisa Beare's Office 104-20130 Lougheed Hwy\, Maple Ridge\, BC V2X 2P7
UID:e.1210.5469
SEQUENCE:3
DTSTAMP:20260420T095558Z
URL:https://business.ridgemeadowschamber.com/events/details/mugs-morning-budget-talk-with-mla-lisa-beare-5469
END:VEVENT

END:VCALENDAR
