BEGIN:VCALENDAR
VERSION:2.0
PRODID:-//ChamberMaster//Event Calendar 2.0//EN
METHOD:PUBLISH
X-PUBLISHED-TTL:P3D
REFRESH-INTERVAL:P3D
CALSCALE:GREGORIAN
BEGIN:VEVENT
DTSTART:20160913T140000Z
DTEND:20160913T150000Z
X-MICROSOFT-CDO-ALLDAYEVENT:FALSE
SUMMARY:Mayor Talks | Mayor John Becker\, City of Pitt Meadows
DESCRIPTION:NEW SERIES EXCLUSIVE FOR MEMBERS\n\n\n\nJoin us for a unique opportunity to meet with His Worship Mayor John Becker in our new series\, Mayor Talks. A small intimate gathering where local issues vital to Maple Ridge's business community are presented. Focusing on various city hall updates and issues\; economic development\, transportation\, environment\, community news and of course provides an opportunity to network and stay in formed.\n\n\n\nSPACE IS LIMITED\, REGISTRATION IS REQUIRED\, NO WALK IN'S AVAILABLE.
X-ALT-DESC;FMTTYPE=text/html:<strong>NEW SERIES EXCLUSIVE FOR MEMBERS</strong><br />\n<br />\nJoin us for a unique opportunity to meet with His Worship Mayor John Becker in our new series\, Mayor Talks. A small intimate gathering where local issues vital to Maple Ridge&#39\;s business community are presented. Focusing on various city hall updates and issues\; economic development\, transportation\, environment\, community news and of course provides an opportunity to network and stay in formed.<br />\n<br />\n<u><strong>SPACE IS LIMITED\, REGISTRATION IS REQUIRED\, NO WALK IN&#39\;S AVAILABLE.</strong></u>
LOCATION:Meadows Room at City Hall 12007 Harris Rd\, Pitt Meadows
UID:e.1210.1586
SEQUENCE:3
DTSTAMP:20260421T213107Z
URL:https://business.ridgemeadowschamber.com/events/details/mayor-talks-mayor-john-becker-city-of-pitt-meadows-09-13-2016-1586
END:VEVENT

END:VCALENDAR
