BEGIN:VCALENDAR
VERSION:2.0
PRODID:-//ChamberMaster//Event Calendar 2.0//EN
METHOD:PUBLISH
X-PUBLISHED-TTL:P3D
REFRESH-INTERVAL:P3D
CALSCALE:GREGORIAN
BEGIN:VEVENT
DTSTART:20260517T164500Z
DTEND:20260517T200000Z
X-MICROSOFT-CDO-ALLDAYEVENT:FALSE
SUMMARY:COMMUNITY EVENT | Meet People & Remove Invasive Plants @ Hoffmann Park\, Pitt Meadows!
DESCRIPTION:COMMUNITY EVENT| Lower Mainland Green Team\n\n\n\nMake new friends in nature & have fun removing invasive plants on Sat. May 17th\, 9:45-1pm at Hoffmann Park in Pitt Meadows! \n\n\n\nNo experience needed\, all ages & abilities welcome! Bring your friends & family and come for as long as you are able! This activity is run in partnership between the Lower Mainland Green Team & the City of Pitt Meadows.\n\n\n\nWhen: Sat. May\, 17th | 9:45AM   1:00PM\, Rain or Shine!\n\n\n\nWhat: Remove Invasive Plants to help our environment!\n\n\n\nWhere: Hoffmann Park\, Entrance on 122 Avenue at 191B Street\, Pitt Meadows ?? Provided: Tools\, gloves\, snacks\, & educational instruction!\n\n\n\nYou wear: Long sleeves\, long pants\, & closed-toe shoes.\n\n\n\nMORE INFO & SIGN UP: bit.ly/greenteam-may-17-2026 ?? QUESTIONS? Email: Max@GreenTeamsCanada.ca\n\n\n\nWhy join? ?? Meet new people\,  Improve mental health & well-being in nature\, learn how to restore a green space\, enjoy DELICIOUS snacks\, earn volunteer hours\, HAVE FUN making a real difference!\n\n\n\nWhether you're looking for fresh air\, exercise\, volunteer hours\, or a chance to meet like-minded people\, there's something in it for everyone!
X-ALT-DESC;FMTTYPE=text/html:COMMUNITY EVENT| Lower Mainland Green Team<br />\n<br />\nMake new friends in nature &amp\; have fun removing invasive plants on Sat. May 17th\, 9:45-1pm at Hoffmann Park in Pitt Meadows!&nbsp\;<br />\n<br />\nNo experience needed\, all ages &amp\; abilities welcome! Bring your friends &amp\; family and come for as long as you are able! This activity is run in partnership between the Lower Mainland Green Team &amp\; the City of Pitt Meadows.<br />\n<br />\nWhen: Sat. May\, 17th | 9:45AM &ndash\; 1:00PM\, Rain or Shine!<br />\n<br />\nWhat: Remove Invasive Plants to help our environment!<br />\n<br />\nWhere: Hoffmann Park\, Entrance on 122 Avenue at 191B Street\, Pitt Meadows ?? Provided: Tools\, gloves\, snacks\, &amp\; educational instruction!<br />\n<br />\nYou wear: Long sleeves\, long pants\, &amp\; closed-toe shoes.<br />\n<br />\nMORE INFO &amp\; SIGN UP: bit.ly/greenteam-may-17-2026 ?? QUESTIONS? Email: Max@GreenTeamsCanada.ca<br />\n<br />\nWhy join? ?? Meet new people\,&nbsp\; Improve mental health &amp\; well-being in nature\, learn how to restore a green space\, enjoy DELICIOUS snacks\, earn volunteer hours\, HAVE FUN making a real difference!<br />\n<br />\nWhether you&rsquo\;re looking for fresh air\, exercise\, volunteer hours\, or a chance to meet like-minded people\, there&rsquo\;s something in it for everyone!
LOCATION:Hoffmann Park\, Pitt Meadows
UID:e.1210.7676
SEQUENCE:3
DTSTAMP:20260422T201501Z
URL:https://business.ridgemeadowschamber.com/events/details/community-event-meet-people-remove-invasive-plants-hoffmann-park-pitt-meadows-7676
END:VEVENT

END:VCALENDAR
