BEGIN:VCALENDAR
VERSION:2.0
PRODID:-//ChamberMaster//Event Calendar 2.0//EN
METHOD:PUBLISH
X-PUBLISHED-TTL:P3D
REFRESH-INTERVAL:P3D
CALSCALE:GREGORIAN
BEGIN:VEVENT
DTSTART:20260522T000000Z
DTEND:20260522T020000Z
X-MICROSOFT-CDO-ALLDAYEVENT:FALSE
SUMMARY:Business After Hours Social & General Meeting: North Fraser Therapeutic Riding Association
DESCRIPTION:Join us for an exciting and fun Business After Hours Social\, hosted by the North Fraser Therapeutic Riding Association! \n\n \nA NEW location for Business After Hours\, and a very neat one at that! We're going to the North Fraser Therapeutic Riding Society and their brand new facility. \n\n \n\nThe North Fraser Therapeutic Riding Association provides therapeutic horseback riding programs for individuals with physical\, cognitive\, and emotional challenges. Through adaptive riding lessons\, they promote independence\, confidence\, and well-being in a supportive and inclusive environment. \n\n\n\nThis will be a fun night of a behind the scenes tour of their NEW facility\, a riding demonstration\, and some great bites\, drinks and networking. Also listen in to our brief general meeting\, and hear some updates from the Chamber of Commerce team. \n\n \n\nRSVP and Save The Date Today!
X-ALT-DESC;FMTTYPE=text/html:<span style="font-size:14px\;"><span style="font-family:arial\;">Join us for an exciting and fun Business After Hours Social\, hosted by the North Fraser Therapeutic Riding Association!&nbsp\;</span></span><br />\n&nbsp\;\n<div data-olk-copy-source="CalendarCompose" style="font-family: Aptos\, Aptos_EmbeddedFont\, Aptos_MSFontService\, Calibri\, Helvetica\, sans-serif\; font-size: 12pt\; color: rgb(0\, 0\, 0)\;"><span style="font-size:14px\;"><span style="font-family:arial\;">A NEW location for Business After Hours\, and a very neat one at that! We&#39\;re going to the North Fraser Therapeutic Riding Society and their brand new facility.&nbsp\;</span></span></div>\n\n<div style="font-family: Aptos\, Aptos_EmbeddedFont\, Aptos_MSFontService\, Calibri\, Helvetica\, sans-serif\; font-size: 12pt\; color: rgb(0\, 0\, 0)\;">&nbsp\;</div>\n\n<div style="font-family: Aptos\, Aptos_EmbeddedFont\, Aptos_MSFontService\, Calibri\, Helvetica\, sans-serif\; font-size: 12pt\; color: rgb(0\, 0\, 0)\;"><span style="font-size:14px\;"><span style="font-family:arial\;">The North Fraser Therapeutic Riding Association provides therapeutic horseback riding programs for individuals with physical\, cognitive\, and emotional challenges. Through adaptive riding lessons\, they promote independence\, confidence\, and well-being in a supportive and inclusive environment.&nbsp\;<br />\n<br />\nThis will be a fun night of a behind the scenes tour of their NEW facility\, a riding demonstration\,&nbsp\;and some great bites\, drinks and networking. Also listen in to our brief general meeting\, and hear some updates from the Chamber of Commerce team.&nbsp\;</span></span></div>\n\n<div style="font-family: Aptos\, Aptos_EmbeddedFont\, Aptos_MSFontService\, Calibri\, Helvetica\, sans-serif\; font-size: 12pt\; color: rgb(0\, 0\, 0)\;">&nbsp\;</div>\n\n<div style="font-family: Aptos\, Aptos_EmbeddedFont\, Aptos_MSFontService\, Calibri\, Helvetica\, sans-serif\; font-size: 12pt\; color: rgb(0\, 0\, 0)\;"><span style="font-size:14px\;"><span style="font-family:arial\;">RSVP and Save The Date Today!</span></span></div>\n\n<p>&nbsp\;</p>\n
LOCATION:12591 209 St\, Maple Ridge\, BC V2X 4N2
UID:e.1210.7625
SEQUENCE:3
DTSTAMP:20260424T012821Z
URL:https://business.ridgemeadowschamber.com/events/details/business-after-hours-social-general-meeting-north-fraser-therapeutic-riding-association-7625
END:VEVENT

END:VCALENDAR
