BEGIN:VCALENDAR
VERSION:2.0
PRODID:-//ChamberMaster//Event Calendar 2.0//EN
METHOD:PUBLISH
X-PUBLISHED-TTL:P3D
REFRESH-INTERVAL:P3D
CALSCALE:GREGORIAN
BEGIN:VEVENT
DTSTART:20170609T000000Z
DTEND:20170609T020000Z
X-MICROSOFT-CDO-ALLDAYEVENT:FALSE
SUMMARY:BizNiz Mixer | Nurse Next Door
DESCRIPTION:You're invited to network at our popular BizNiz Mixer hosted by Nurse Next Door! A unique opportunity to mix and mingle with like minded business leaders and professionals from both communities.\n\n \n\nOur BizNiz Mixers are complimentary with your membership and designed specifically to encourage networking. Here you can learn about our host\, Nurse Next Door and other Chamber members\, products and service with the chance to meet prospective customers\, clients and partners. Building relationships and making business connections are key strategies for small business success.\n\n\n\nBring your business cards!\n \n\nBring a guest! Are you a member interested in bringing a non-member? We would love to have them join us\, be sure to add them as your guest when you register.\n\n\n\nInterested in hosting a BizNiz Mixer? \n\nContact Tami\, 604-457-4599 or tami@ridgemeadowschamber.com.\n\nThe distribution of promotional material such as brochures\, pamphlets and promotional items at mixer events is the privilege of the host exclusively.
X-ALT-DESC;FMTTYPE=text/html:<div style="text-align: justify\;"><span style="font-size:12px\;">You&#39\;re invited to network at our popular&nbsp\;BizNiz&nbsp\;Mixer hosted by Nurse Next Door! A unique opportunity to mix and mingle with like minded business leaders and professionals from both communities.<br />\n&nbsp\;<br />\nOur&nbsp\;BizNiz&nbsp\;Mixers are complimentary with your membership and designed specifically to encourage networking. Here you can learn about our host\, Nurse Next Door&nbsp\;and other Chamber members\,&nbsp\;products and service with the chance to meet prospective customers\, clients and partners. Building relationships and making business connections are key strategies for small business success.<br />\n<br />\nBring your business cards!</span></div>\n<span style="font-size:12px\;">&nbsp\;<br />\n<span style="color: rgb(0\, 0\, 0)\;">Bring a guest! Are you a member interested in bringing a non-member? We would love to have them join us\, be sure to add them as your guest when you register.</span><br />\n<br />\n<span style="font-weight: bold\;"><span style="color: rgb(128\, 0\, 128)\;">Interested in hosting a&nbsp\;BizNiz&nbsp\;Mixer?&nbsp\;</span></span><br />\nContact Tami\, 604-457-4599 or&nbsp\;tami@ridgemeadowschamber.com.</span>\n\n<p style="margin: 15px 0px\; color: rgb(77\, 77\, 79)\; font-family: &quot\;Segoe UI&quot\;\, Tahoma\, Geneva\, Verdana\, sans-serif\; font-size: 12px\;"><span style="color:#000000\;"><span style="font-size:12px\;"><em>The distribution of promotional material such as brochures\, pamphlets and promotional items at mixer events is the privilege of the host exclusively.&nbsp\;</em></span></span><br />\n&nbsp\;</p>\n
LOCATION:Nurse Next Door (Upstairs from Quickpass) #204-12165 Harris Road Pitt Meadows\,V3Y 2E9
UID:e.1210.1716
SEQUENCE:3
DTSTAMP:20260421T075457Z
URL:https://business.ridgemeadowschamber.com/events/details/bizniz-mixer-nurse-next-door-1716
END:VEVENT

END:VCALENDAR
