BEGIN:VCALENDAR
VERSION:2.0
PRODID:-//ChamberMaster//Event Calendar 2.0//EN
METHOD:PUBLISH
X-PUBLISHED-TTL:P3D
REFRESH-INTERVAL:P3D
CALSCALE:GREGORIAN
BEGIN:VEVENT
DTSTART:20170113T013000Z
DTEND:20170113T040000Z
X-MICROSOFT-CDO-ALLDAYEVENT:FALSE
SUMMARY:2017 New Year\, New Connections | Lower Mainland Chambers' Mixer
DESCRIPTION:450 Members - 12 Chambers - 1 Amazing Evening    \nFor a 3rd year in a row\, we are please to unite with several Lower Mainland Chambers of Commerce and Board of Trades for one night celebrating business\, great connections\, delicious food and fun door prizes! Proudly hosted by the Hard Rock Casino\, this exclusive networking event will bring together fellow chamber members and business professionals from across the region\, to give you a greater opportunity to network\, connect and grow your business.\n\n \n\nPlease note tickets are extremely limited per Chamber. Registration will be on a first come first serve basis. To secure your seat\, please register immediately with Tami.\n\n\nHost Chamber\n\nTri-Cities Chamber of Commerce\n\n\n\nPartnered Chambers\n\nAbbotsford Chamber of Commerce\n\nBurnaby Board of Trade\n\nCloverdale District Chamber of Commerce\n\nDelta Chamber of Commerce\n\nGreater Langley Chamber of Commerce\n\nMaple Ridge & Pitt Meadows Chamber of Commerce\n\nMission & District Chamber of Commerce\n\nNew Westminster Chamber of Commerce\n\nNorth Vancouver Chamber of Commerce\n\nSouth Surrey & White Rock Chamber of Commerce\n\nVancouver Board of Trade\n\n\n\nSponsored By\n\nHard Rock Casino
X-ALT-DESC;FMTTYPE=text/html:<br />\n<span style="font-family:arial\;"><span style="font-size:16px\;"><strong><span style="color:#008080\;">450 Members - 12 Chambers - 1 Amazing Evening &nbsp\;</span> &nbsp\;</strong></span></span>\n<div style="text-align: justify\;"><span style="font-family:arial\;"><span style="font-size:11pt\;">For a 3rd year in a row\, we are please to unite with several Lower Mainland Chambers of Commerce and Board of Trades for one night celebrating business\, great connections\, delicious food and fun door prizes! Proudly hosted by the Hard Rock Casino\, this exclusive networking event will bring together fellow chamber members and business professionals from across the region\, to give you a greater opportunity to network\, connect and grow your business.</span><br />\n&nbsp\;<br />\n<span style="font-size:11pt\;">Please note tickets are extremely limited per Chamber. Registration will be on a first come first serve basis. To secure your seat\, please register immediately with Tami.</span></span></div>\n<br />\n<strong style="font-family: arial\; font-size: 16px\;"><span style="color: rgb(0\, 128\, 128)\;">Host Chamber</span></strong><br />\n<span style="font-family: arial\; font-size: 14.6667px\; text-align: justify\;">Tri-Cities Chamber of Commerce</span><br />\n<br />\n<strong style="font-family: arial\; font-size: 16px\;"><span style="color: rgb(0\, 128\, 128)\;">Partnered Chambers</span></strong><br />\n<span style="font-family: arial\; font-size: 14.6667px\; text-align: justify\;">Abbotsford Chamber of Commerce<br />\nBurnaby Board of Trade<br />\nCloverdale District&nbsp\;Chamber of Commerce<br />\nDelta&nbsp\;Chamber of Commerce<br />\nGreater Langley&nbsp\;Chamber of Commerce<br />\nMaple Ridge &amp\; Pitt Meadows Chamber of Commerce<br />\nMission &amp\; District&nbsp\;Chamber of Commerce<br />\nNew Westminster&nbsp\;Chamber of Commerce<br />\nNorth Vancouver&nbsp\;Chamber of Commerce<br />\nSouth Surrey &amp\; White Rock&nbsp\;Chamber of Commerce<br />\nVancouver Board of Trade</span><br />\n<br />\n<strong style="font-family: arial\; font-size: 16px\;"><span style="color: rgb(0\, 128\, 128)\;">Sponsored By</span></strong><br />\n<span style="font-family: arial\; font-size: 14.6667px\; text-align: justify\;">Hard Rock Casino</span>
LOCATION:Hard Rock Casino 2080 United Boulevard Coquitlam\, BC V3K 6W3
UID:e.1210.1709
SEQUENCE:3
DTSTAMP:20260421T132151Z
URL:https://business.ridgemeadowschamber.com/events/details/2017-new-year-new-connections-lower-mainland-chambers-mixer-1709
END:VEVENT

END:VCALENDAR
