BEGIN:VCALENDAR
VERSION:2.0
PRODID:-//ChamberMaster//Event Calendar 2.0//EN
METHOD:PUBLISH
X-PUBLISHED-TTL:P3D
REFRESH-INTERVAL:P3D
CALSCALE:GREGORIAN
BEGIN:VEVENT
DTSTART:20170406T064500Z
DTEND:20170405T203000Z
X-MICROSOFT-CDO-ALLDAYEVENT:FALSE
SUMMARY:2016 Translink Luncheon with Kevin Desmond\, CEO
DESCRIPTION:Please join us as we host Kevin Desmond\, CEO Translink\n\nCome and listen to key-note speaker Kevin Desmond as he highlights Translink's plans for the next 5 years\, including how they will be addressing transit and transportation in the lower mainland and how it will impact our communities of Pitt Meadows and Maple Ridge.\n\n\n\nThe Chamber is committed to provide the insight and answers that our members seek with issues that pertain to Translink. Therefore\, we would like to know what's on YOUR mind with regards to local Translink and transportation issues.\n\n\n\nKindly email your questions you would like asked to the chamber at tami@ridgemeadowschamber.com by Friday\, March 24.\n\n\n\nBe sure to register for the luncheon to hear your questions and concerns answered.\n\n\n\n\n\nMore about Kevin:\n\n\n\nKevin is an experienced executive with a career built in the public transportation industry.\n\nPrior to joining TransLink\, Kevin was General Manager of King County Metro Transit serving the Seattle metropolitan region. At Metro\, he oversaw a mix of transit modes\, including buses\, trains\, vanpools\, paratransit vans\, as well as approximately 5\,000 employees. In his 12 years tenure\, he helped to grow ridership by 44 per cent and launch the ORCA Card\, as well as light rail\, streetcar service\, and several bus rapid transit lines. Kevin was also part of three successful votes on transit funding. \n\nPrior to Metro Transit\, Kevin was Vice-President of Operations and Development at Pierce Transit in Tacoma\, Washington. Before relocating to the West Coast\, Kevin acted as Chief of Operations Planning for New York City Transit which included bus and subway operations. Earlier in his career he served as Deputy Director in Mayor Koch's Transportation Office and Assistant Commissioner for the New York City Taxi and Limousine Commission.\n\nKevin has a master's degree in public administration from New York University. He was a member of the American Public Transportation Association (APTA) Board of Directors and the first chair of the organization's Sustainability Committee.
X-ALT-DESC;FMTTYPE=text/html:<div dir="ltr" style="line-height: 1.2\; margin-top: 14pt\; margin-bottom: 14pt\; text-align: justify\;"><span style="font-family: Calibri\; font-size: 16px\; text-align: justify\; white-space: pre-wrap\;"><span style="color:#008080\;"><strong>Please join us as we host Kevin Desmond\, CEO Translink</strong></span><br />\n<span style="font-size:14px\;"><span style="font-family:arial\;">Come and listen to key-note speaker Kevin Desmond as he highlights Translink&#39\;s plans for the next 5 years\, including how they will be addressing transit and transportation in the lower mainland and how it </span></span></span><span style="font-size:14px\;"><span style="font-family:arial\;"><span style="text-align: justify\; white-space: pre-wrap\;">will impact our communities of Pitt Meadows and Maple Ridge.</span><br />\n<br />\nThe Chamber is committed to provide the insight and answers that our members seek with issues that pertain to Translink. Therefore\, we would like to know what&rsquo\;s on YOUR mind with regards to local Translink and transportation issues.<br />\n<br />\nKindly email your questions you would like asked to the chamber at <strong>tami@ridgemeadowschamber.com by Friday\, March 24.</strong><br />\n<br />\nBe sure to register for the luncheon to hear your questions and concerns answered.<br />\n<br />\n<br />\n<span style="vertical-align: baseline\; white-space: pre-wrap\;"><em>More about Kevin:</em></span><br style="text-align: justify\;" />\n<br style="text-align: justify\;" />\n<span style="vertical-align: baseline\; white-space: pre-wrap\;">Kevin is an experienced executive with a career built in the public transportation industry.</span></span></span></div>\n\n<div dir="ltr" style="line-height: 1.2\; margin-top: 14pt\; margin-bottom: 14pt\; text-align: justify\;"><span style="font-size:14px\;"><span style="font-family:arial\;"><span id="docs-internal-guid-587d59e8-6703-a31b-32bd-08b4676df50f"><span style="vertical-align: baseline\; white-space: pre-wrap\;">Prior to joining TransLink\, Kevin was General Manager of King County Metro Transit serving the Seattle metropolitan region. At Metro\, he oversaw a mix of transit modes\, including buses\, trains\, vanpools\, paratransit vans\, as well as approximately 5\,000 employees. In his 12 years tenure\, he helped to grow ridership by 44 per cent and launch the ORCA Card\, as well as light rail\, streetcar service\, and several bus rapid transit lines. Kevin was also part of three successful votes on transit funding. </span></span></span></span></div>\n\n<div dir="ltr" style="line-height: 1.2\; margin-top: 0pt\; margin-bottom: 14pt\; text-align: justify\;"><span style="font-size:14px\;"><span style="font-family:arial\;"><span id="docs-internal-guid-587d59e8-6703-a31b-32bd-08b4676df50f"><span style="vertical-align: baseline\; white-space: pre-wrap\;">Prior to Metro Transit\, Kevin was Vice-President of Operations and Development at Pierce Transit in Tacoma\, Washington. Before relocating to the West Coast\, Kevin acted as Chief of Operations Planning for New York City Transit which included bus and subway operations. Earlier in his career he served as Deputy Director in Mayor Koch&rsquo\;s Transportation Office and Assistant Commissioner for the New York City Taxi and Limousine Commission.</span></span></span></span></div>\n\n<div dir="ltr" style="line-height: 1.2\; margin-top: 0pt\; margin-bottom: 14pt\; text-align: justify\;"><span style="font-size:14px\;"><span style="font-family:arial\;"><span id="docs-internal-guid-587d59e8-6703-a31b-32bd-08b4676df50f"><span style="vertical-align: baseline\; white-space: pre-wrap\;">Kevin has a master&rsquo\;s degree in public administration from New York University. He was a member of the American Public Transportation Association (APTA) Board of Directors and the first chair of the organization&rsquo\;s Sustainability Committee. </span></span></span></span></div>\n
LOCATION:Meadow Gardens Golf Club 19675 Meadow Gardens Way\, Pitt Meadows\, BC V3Y 1Z2
UID:e.1210.1722
SEQUENCE:3
DTSTAMP:20260421T092304Z
URL:https://business.ridgemeadowschamber.com/events/details/2016-translink-luncheon-with-kevin-desmond-ceo-1722
END:VEVENT

END:VCALENDAR
