BEGIN:VCALENDAR
VERSION:2.0
PRODID:-//ChamberMaster//Event Calendar 2.0//EN
METHOD:PUBLISH
X-PUBLISHED-TTL:P3D
REFRESH-INTERVAL:P3D
CALSCALE:GREGORIAN
BEGIN:VEVENT
DTSTART:20161017T184500Z
DTEND:20161017T203000Z
X-MICROSOFT-CDO-ALLDAYEVENT:FALSE
SUMMARY:2016 SBW | Your People Are Your Profits with Barb Ruscheinski
DESCRIPTION:"People Are Your Profits"\n\nwith key-note speaker Barb Ruscheinski\n\n\n\nEmploying the wrong person can damage your business in a number of ways:it is costly and time consuming to recruit\,select and train an employee\,in addition to what a bad hire will cost you in employee morale\,sales\, and trust in your ability as a business leader. It is a risk and expense you can ill afford in today's competitive economy.\n\n\n\nSo unleash your people-potential:create objective and detailed job performance criteria by which you will hire\, train and assess your employee's ongoing contributions to your business. Hire people who fit into the job\, and into your team dynamics as well.\n\n\n\nWho should attend? Business owners\,managers\,supervisors\,HR personnel and others who wish to achieve greater business returns through their most powerful means\,their people.\n\n\n\nLearn more about Barb at www.engagementbydesign.ca\n\n\n\n\n\nASK ABOUT A SMALL BUSINESS WEEK PASS! ONLY $75 ($105 value)
X-ALT-DESC;FMTTYPE=text/html:<br />\n<span style="color:#008080\;"><strong>&quot\;People Are Your Profits&quot\;</strong></span><br />\nwith key-note speaker Barb Ruscheinski<br />\n<br />\nEmploying the wrong person can damage your business in a number of ways:it is costly and time consuming to recruit\,select and train an employee\,in addition to what a bad hire will cost you in employee morale\,sales\, and trust in your ability as a business leader. It is a risk and expense you can ill afford in today&#39\;s competitive economy.<br />\n<br />\nSo unleash your people-potential:create objective and detailed job performance criteria by which you will hire\, train and assess your employee&#39\;s ongoing contributions to your business. Hire people who fit into the job\, and into your team dynamics as well.<br />\n<br />\nWho should&nbsp\;attend? Business owners\,managers\,supervisors\,HR personnel and others who wish to achieve greater business returns through their most powerful means\,their people.<br />\n<br />\nLearn more about Barb at www.engagementbydesign.ca<br />\n<br />\n<br />\n<span style="color:#FF0000\;"><strong>ASK ABOUT A SMALL BUSINESS WEEK PASS! ONLY $75 ($105 value)</strong></span>
LOCATION:Townhall Public House 20690 Lougheed Hwy\, Maple Ridge\, BC V2X 2P8
UID:e.1210.1680
SEQUENCE:3
DTSTAMP:20260421T175249Z
URL:https://business.ridgemeadowschamber.com/events/details/2016-sbw-your-people-are-your-profits-with-barb-ruscheinski-1680
END:VEVENT

END:VCALENDAR
