BEGIN:VCALENDAR
VERSION:2.0
PRODID:-//ChamberMaster//Event Calendar 2.0//EN
METHOD:PUBLISH
X-PUBLISHED-TTL:P3D
REFRESH-INTERVAL:P3D
CALSCALE:GREGORIAN
BEGIN:VEVENT
DTSTART:20161019T184500Z
DTEND:20161019T203000Z
X-MICROSOFT-CDO-ALLDAYEVENT:FALSE
SUMMARY:2016 SBW | Networking for Referrals! How to Turn Your Conversations into CASH with Sue Clement
DESCRIPTION:Networking for Referrals! \n\nHow to Turn Your Conversations into CASH!\n\n \n\nDo you attend a lot of networking events\, but are disappointed with the inconsistent results from all your efforts?   Perhaps you've thrown in the towel and don't even bother to network regularly because your results never amounted to more than a pocket full of business cards and trivial conversations.\n\n \n\nWouldn't it be great if your networking actually create a steady stream of referrals and new prospects?\n\n \n\nIf you're serious about getting better results from networking\, you'll definitely want to join us as International Speaker\, Best Selling Author and Business Growth Expert Sue Clement of Success Coaching shares her best secrets of successful connecting. You'll discover how to leverage your time and networking opportunities while building powerful and lasting connections... the ones that send you referrals!\n\n \n\nJoin us and discover:\n\n \n\n* Sue's C.A.S.H.TM  system that shifts networking from just an activity to being a profitable strategy\n\n* The biggest mistake you could make while networking that will keep you stuck with a pocketful of business cards and no clients (and how to fix it)\n\n* The #1 success strategy top performers use to bring them plenty of referrals and new prospects - and how you can do the same \n\n* A key technique guaranteed to improve your results  - you'll be surprised at how effect this is\n\n* The best ways to build meaningful and lasting connections that inspires people to know\, like\, trust and refer you. \n\n \n\n\n \n\nSue Clement Bio/Introduction\n\nAn international speaker\, bestselling author and marketing expert Sue Clement of Success Coaching is best known for expediting business success.  \n\n\n\nSue's impressive track record includes growing her first business\, an employment agency from concept into a multi-million dollar company before selling it. She is an expert in marketing\, sales\, and leadership and brings a depth of real world experience to her clients and audiences. One of her favorite speaking opportunities was when she was invited to Aalborg\, Denmark to speak to 400 women business owners.\n\n\n\n As a certified business coach since 2000\, she has personally impacted thousands of entrepreneurs globally to create and grow thriving businesses. Her book\, Insider Secrets to Referral Success\, highlights the powerful\, yet simple Referral Success formula she uses to guide both her clients' and her own success.\n\n\n\nSue is active in the business community and belongs to several associations. She has served on Boards including the Richmond Chamber of Commerce\, Richmond Youth Services and Valley Women's Network. In her free time\, she has a passion for fast cars\, and is a gifted artist.
X-ALT-DESC;FMTTYPE=text/html:<div>\n<div><br />\n<span style="color:#008080\;"><strong>Networking for Referrals!&nbsp\;</strong></span></div>\n\n<div><span style="color:#008080\;"><strong>How to Turn Your Conversations into CASH!</strong></span></div>\n\n<div>&nbsp\;</div>\n\n<div>Do you attend a lot of networking events\, but are disappointed with the inconsistent results from all your efforts? &nbsp\; Perhaps you&#39\;ve thrown in the towel and don&#39\;t even bother to network regularly because your results never amounted to more than a pocket full of business cards and trivial conversations.</div>\n\n<div>&nbsp\;</div>\n\n<div>Wouldn&#39\;t it be great if your networking actually create a steady stream of referrals and new prospects?</div>\n\n<div>&nbsp\;</div>\n\n<div>If you&#39\;re serious about getting better results from networking\, you&#39\;ll definitely want to join us as International Speaker\, Best Selling Author and Business Growth Expert Sue Clement of Success Coaching shares her best secrets of successful connecting. You&#39\;ll discover how to leverage your time and networking opportunities while building powerful and lasting connections... the ones that send you referrals!</div>\n\n<div>&nbsp\;</div>\n\n<div>Join us and discover:</div>\n\n<div>&nbsp\;</div>\n\n<div>*&nbsp\;Sue&#39\;s C.A.S.H.TM &nbsp\;system that shifts networking from just an activity to being a profitable strategy</div>\n\n<div>*&nbsp\;The biggest mistake you could make while networking that will keep you stuck with a pocketful of business cards and no clients (and how to fix it)</div>\n\n<div>*&nbsp\;The #1 success strategy top performers use to bring them plenty of referrals and new prospects - and how you can do the same&nbsp\;</div>\n\n<div>*&nbsp\;A key technique guaranteed to improve your results &nbsp\;- you&#39\;ll be surprised at how effect this is</div>\n\n<div>* The best ways to build meaningful and lasting connections that inspires people to know\, like\, trust and refer you.&nbsp\;</div>\n\n<div>&nbsp\;</div>\n</div>\n\n<div>&nbsp\;<br />\n<span style="color:#008080\;"><strong><span style="font-family:arial\,sans-serif\;">Sue Clement Bio/Introduction</span></strong></span><br />\n<span style="font-family:arial\,sans-serif\;"><span style="font-size:10.0pt\;">An international speaker\, bestselling author and marketing expert <strong>Sue Clement</strong> <strong>of Success Coaching </strong>is best known for expediting business success.&nbsp\; </span></span><br />\n<br />\n<span style="font-size:10pt\;"><span style="font-family:arial\,sans-serif\;">Sue&#39\;s impressive track record includes growing her first business\, an employment agency from concept into a multi-million dollar company before selling it. She is an expert in marketing\, sales\, and leadership and brings a depth of real world experience to her clients and audiences. One of her favorite speaking opportunities was when she was invited to Aalborg\, Denmark to speak to 400 women business owners.</span></span><br />\n<br />\n&nbsp\;<span style="font-size:10pt\;"><span style="font-family:arial\,sans-serif\;">As a certified business coach since 2000\, she has personally impacted thousands of entrepreneurs globally to create and grow thriving businesses. </span></span><span style="font-size:10pt\;"><span style="font-family:arial\,sans-serif\;">Her book\, </span></span><strong style="font-family:Arial\, sans-serif\;font-size:10pt\;"><em>Insider Secrets to Referral Success\, </em></strong><span style="font-size:10pt\;"><span style="font-family:arial\,sans-serif\;">highlights the powerful\, yet simple Referral Success formula she uses to guide both her clients&#39\; and her own success.</span></span><br />\n<br />\n<span style="font-family:arial\,sans-serif\;"><span style="font-size:10.0pt\;">Sue is active in the business community and belongs to several associations. She has served on Boards including the Richmond Chamber of Commerce\, Richmond Youth Services and Valley Women&#39\;s Network. In her free time\, she has a passion for fast cars\, and is a gifted artist.</span></span><br />\n&nbsp\;<br />\n&nbsp\;</div>\n
LOCATION:Chameleon Cafe 11965 224 Street\, Maple Ridge\, BC V2X 6B4
UID:e.1210.1679
SEQUENCE:3
DTSTAMP:20260421T190814Z
URL:https://business.ridgemeadowschamber.com/events/details/2016-sbw-networking-for-referrals-how-to-turn-your-conversations-into-cash-with-sue-clement-1679
END:VEVENT

END:VCALENDAR
