BEGIN:VCALENDAR
VERSION:2.0
PRODID:-//ChamberMaster//Event Calendar 2.0//EN
METHOD:PUBLISH
X-PUBLISHED-TTL:P3D
REFRESH-INTERVAL:P3D
CALSCALE:GREGORIAN
BEGIN:VEVENT
DTSTART:20161019T000000Z
DTEND:20161019T023000Z
X-MICROSOFT-CDO-ALLDAYEVENT:FALSE
SUMMARY:2016 SBW | Friends with Benefits - Business Showcase & Mixer
DESCRIPTION:"Friends With Benefits" \n\n                   Business Showcase & Mixer\n\n\n\nOoh a naughty little play on words to catch your attention! \n\n\n\nJoin us for a fun filled mixer\, connect with like-minded business professionals and learn more on how the Chamber the various benefit providers can help save you and your business save money.\n\n\n\nWhat benefits does the Chamber have to offer our members? There are so many\, come out and meet some of the reps. These are Benefit providers from the BC and Canadian Chamber that we are able to pass on to our membership.\n\n\n\nIn addition\, we are opening up a limited number of tables to members who would like to showcase their services and/or products.\n\n\n\nMembers who would like to showcase their business\, please contact\n\ntami@ridgemeadowschamber.com or call at 604-457-4599\n\n\n\nASK ABOUT A SMALL BUSINESS WEEK PASS! ONLY $75 ($105 value)
X-ALT-DESC;FMTTYPE=text/html:<br />\n<span style="font-size:16px\;"><span style="color:#FF0000\;"><span style="font-family:tahoma\;"><strong>&nbsp\; &nbsp\; &nbsp\; &nbsp\; &nbsp\; &nbsp\; &nbsp\; &nbsp\; &nbsp\; &nbsp\; &nbsp\; &quot\;Friends With Benefits&quot\;</strong></span></span><span style="color:#008080\;"><span style="font-family:tahoma\;"><strong> </strong></span></span><br />\n<span style="font-family:tahoma\;"><strong>&nbsp\; &nbsp\; &nbsp\; &nbsp\; &nbsp\; &nbsp\; &nbsp\; &nbsp\; &nbsp\; &nbsp\;Business Showcase &amp\; Mixer</strong></span></span><br />\n<br />\n<span style="color:#FF0000\;"><strong>Ooh a naughty little play on words to catch your attention!&nbsp\;</strong></span><br />\n<br />\nJoin us for a fun filled mixer\, connect with like-minded business professionals and learn more on how the Chamber the various benefit providers can help save you and your business save money.<br />\n<br />\nWhat benefits does the Chamber have to offer our members? There are so many\, come out and meet some of the reps. These are Benefit providers from the BC and Canadian Chamber that we are able to pass on to our membership.<br />\n<br />\nIn addition\, we are opening up a limited number of tables to members who would like to showcase their services and/or products.<br />\n<br />\nMembers who would like to showcase their business\, please&nbsp\;contact<br />\ntami@ridgemeadowschamber.com or call at 604-457-4599<br />\n<br />\n<span style="color:#FF0000\;"><strong>ASK ABOUT A SMALL BUSINESS WEEK PASS! ONLY $75 ($105 value)</strong></span>
LOCATION:The Well\, Chances Casino 22710 Lougheed Hwy\, Maple Ridge\, BC V2X 2V6
UID:e.1210.1681
SEQUENCE:3
DTSTAMP:20260421T175616Z
URL:https://business.ridgemeadowschamber.com/events/details/2016-sbw-friends-with-benefits-business-showcase-mixer-1681
END:VEVENT

END:VCALENDAR
