BEGIN:VCALENDAR
VERSION:2.0
PRODID:-//ChamberMaster//Event Calendar 2.0//EN
METHOD:PUBLISH
X-PUBLISHED-TTL:P3D
REFRESH-INTERVAL:P3D
CALSCALE:GREGORIAN
BEGIN:VEVENT
DTSTART:20161020T143000Z
DTEND:20161020T160000Z
X-MICROSOFT-CDO-ALLDAYEVENT:FALSE
SUMMARY:2016 SBW | Demystifying Your Financial Statement with Richard Turner & Michael Russo
DESCRIPTION:Demystifying Your Financial Statement\n\nby Richard Turner & Michael Turner\n\n\n\nEnjoy a delicious breakfast cooked for you by Brown's before sitting back with your coffee in hand and listening to Richard Turner and Michael Russo from BDC to learn about banking for small businesses.\n\n\n\nDo you own a small business? How can you make your money work for you? Struggling to navigate financial institutions? Let Richard and Michael show you how.\n\n\n\n The presentation will cover important information within the accounting and finance function of a business including what bankers look for when assessing a loan application\, a review of the types of commercial loans offered by banks\, an overview of the types of financial statements prepared by accountants\, statement analysis\, tips\, and tricks to help your banker. The intent of the presentation is to assist entrepreneurs with understanding the information found in financial statements.
X-ALT-DESC;FMTTYPE=text/html:<br />\n<strong><span style="color:#008080\;">Demystifying Your Financial Statement</span></strong><br />\nby Richard Turner &amp\; Michael Turner<br />\n<br />\nEnjoy a delicious breakfast cooked for you by Brown&#39\;s before sitting back with your coffee in hand and listening to Richard Turner and Michael Russo from BDC to learn about banking for small businesses.<br />\n<br />\nDo you own a small business? How can you make your money work for you? Struggling to navigate financial institutions? Let Richard and Michael show you how.<br />\n<br />\n&nbsp\;The presentation will cover important information within the accounting and finance function of a business including what bankers look for when assessing a loan application\, a review of the types of commercial loans offered by banks\, an overview of the types of financial statements prepared by accountants\, statement analysis\, tips\, and tricks to help your banker. The intent of the presentation is to assist entrepreneurs with understanding the information found in financial statements.
LOCATION:Brown's Social House 20490 Lougheed Hwy\, Maple Ridge BC V2X 2P8
UID:e.1210.1685
SEQUENCE:3
DTSTAMP:20260421T175050Z
URL:https://business.ridgemeadowschamber.com/events/details/2016-sbw-demystifying-your-financial-statement-with-richard-turner-michael-russo-1685
END:VEVENT

END:VCALENDAR
