BEGIN:VCALENDAR
VERSION:2.0
PRODID:-//ChamberMaster//Event Calendar 2.0//EN
METHOD:PUBLISH
X-PUBLISHED-TTL:P3D
REFRESH-INTERVAL:P3D
CALSCALE:GREGORIAN
BEGIN:VEVENT
DTSTART:20160330T183000Z
DTEND:20160330T210000Z
X-MICROSOFT-CDO-ALLDAYEVENT:FALSE
SUMMARY:2016 RICHMOND CHAMBER OF COMMERCE | Luncheon with Minister Todd Stone
DESCRIPTION:Join the Hon. Todd Stone\, Minister of Transportation and Infrastructure and Deputy House Leader for a luncheon and address on Wednesday\, March 30th at the Sheraton Vancouver Airport Hotel.\n\nPlease contact the Richmond Chamber of Commerce for tickets. \n\n(604) 278 - 2822
X-ALT-DESC;FMTTYPE=text/html:<p><span style="color: rgb(0\, 0\, 0)\; font-family: Arial\, 'Trebuchet MS'\, Helvetica\; line-height: normal\;">Join the Hon. Todd Stone\, Minister of Transportation and Infrastructure and Deputy House Leader for a luncheon and address on Wednesday\, March 30th at the Sheraton Vancouver Airport Hotel.</span></p>\n\n<p>Please contact the Richmond Chamber of Commerce for tickets.&nbsp\;<br />\n<span style="color: rgb(0\, 0\, 0)\; font-family: Arial\, 'Trebuchet MS'\, Helvetica\; line-height: normal\;">(604) 278 - 2822</span></p>\n
LOCATION:Sheraton Vancouver Airport Hotel 7551 Westminster Hwy Richmond\, BC
UID:e.1210.1265
SEQUENCE:3
DTSTAMP:20260422T052459Z
URL:https://business.ridgemeadowschamber.com/events/details/2016-richmond-chamber-of-commerce-luncheon-with-minister-todd-stone-1265
END:VEVENT

END:VCALENDAR
