BEGIN:VCALENDAR
VERSION:2.0
PRODID:-//ChamberMaster//Event Calendar 2.0//EN
METHOD:PUBLISH
X-PUBLISHED-TTL:P3D
REFRESH-INTERVAL:P3D
CALSCALE:GREGORIAN
BEGIN:VEVENT
DTSTART:20160115T013000Z
DTEND:20160115T040000Z
X-MICROSOFT-CDO-ALLDAYEVENT:FALSE
SUMMARY:2016 Mix it Up | Hard Rock Casino
DESCRIPTION:New Year\, New Connections Mixer\n\n\n\nJoin us for a HUGE joint-Chamber networking event at the Hard Rock Casino Vancouver (in Coquitlam). \n\nThis event will feature members from Chambers across the Lower Mainland. Your ticket gets you appetizers and a cocktail! \n\nTickets are extremely limited\, so please register early to avoid disappointment.
X-ALT-DESC;FMTTYPE=text/html:<p><strong><span style="font-size:18px\;">New Year\, New Connections Mixer</span></strong><br />\n<br />\nJoin us for a HUGE joint-Chamber networking event at the Hard Rock Casino Vancouver (in Coquitlam).&nbsp\;</p>\n\n<p>This event will feature members from Chambers across the Lower Mainland. Your ticket gets you appetizers and a cocktail!&nbsp\;</p>\n\n<p>Tickets are&nbsp\;<u>extremely</u>&nbsp\;limited\, so please register early to avoid disappointment.&nbsp\;</p>\n
LOCATION:Hard Rock Casino Vancouver 2080 United Bvd. Coquitlam BC
UID:e.1210.1234
SEQUENCE:3
DTSTAMP:20260422T080602Z
URL:https://business.ridgemeadowschamber.com/events/details/2016-mix-it-up-hard-rock-casino-1234
END:VEVENT

END:VCALENDAR
