BEGIN:VCALENDAR
VERSION:2.0
PRODID:-//ChamberMaster//Event Calendar 2.0//EN
METHOD:PUBLISH
X-PUBLISHED-TTL:P3D
REFRESH-INTERVAL:P3D
CALSCALE:GREGORIAN
BEGIN:VEVENT
DTSTART:20160720T210000Z
DTEND:20160720T220000Z
X-MICROSOFT-CDO-ALLDAYEVENT:FALSE
SUMMARY:2016 Meet MLA Claire Trevena\, Opposition Critic for Transportation and Infrastructure
DESCRIPTION:Meet Claire Trevena\, MLA North Island. NDP Official Opposition Critic/Spokesperson for Transportation and Infrastructure\; which includes BC Ferries and BC Transit.\n\n\n\nClaire Trevena will be visiting Maple Ridge and Pitt Meadows and would like to meet with Chamber members to gain insight and and gather information to better understand the transportation needs of businesses in the Pitt Meadows and Maple Ridge region.\n\n\n\nIf you would like to be part of this discussion please register now as space is limited.
X-ALT-DESC;FMTTYPE=text/html:Meet Claire Trevena\, MLA North Island. NDP Official Opposition Critic/Spokesperson for Transportation and Infrastructure\; which includes BC Ferries and BC Transit.<br />\n<br />\nClaire Trevena&nbsp\;will be visiting Maple Ridge and Pitt Meadows and would like to meet with Chamber members to gain insight and and gather information to better understand the transportation needs of businesses in the Pitt Meadows and Maple Ridge region.<br />\n<br />\nIf you would like to be part of this discussion please register now as space is limited.
LOCATION:Suite #300 - level 3 City of Maple Ridge Civic Tower 22470 Dewdney Trunk Rd. Maple Ridge V2X 5Z6
UID:e.1210.1571
SEQUENCE:3
DTSTAMP:20260422T012609Z
URL:https://business.ridgemeadowschamber.com/events/details/2016-meet-mla-claire-trevena-opposition-critic-for-transportation-and-infrastructure-1571
END:VEVENT

END:VCALENDAR
