BEGIN:VCALENDAR
VERSION:2.0
PRODID:-//ChamberMaster//Event Calendar 2.0//EN
METHOD:PUBLISH
X-PUBLISHED-TTL:P3D
REFRESH-INTERVAL:P3D
CALSCALE:GREGORIAN
BEGIN:VEVENT
DTSTART:20160726T173000Z
DTEND:20160726T183000Z
X-MICROSOFT-CDO-ALLDAYEVENT:FALSE
SUMMARY:2016 Mayor Talks | Mayor Nicole Read\, City of Maple Ridge
DESCRIPTION:NEW SERIES EXCLUSIVE FOR MEMBERS\n\n\n\nJoin us for a unique opportunity to meet with Her Worship Mayor Nicole Read in our new series\, Mayor Talks. A small intimate gathering where local issues vital to Maple Ridge's business community are presented. Focusing on various city hall updates and issues\; economic development\, transportation\, environment\, community news and of course provides an opportunity to network and stay in formed.\n\n\n\nSPACE IS LIMITED\, REGISTRATION IS REQUIRED\, NO WALK IN'S AVAILABLE.
X-ALT-DESC;FMTTYPE=text/html:<strong style="line-height: 20.8px\;">NEW SERIES EXCLUSIVE FOR MEMBERS</strong><br />\n<br />\nJoin us for a unique opportunity to meet with Her Worship Mayor Nicole Read in our new series\, Mayor Talks. A small intimate gathering where local issues vital to Maple Ridge&#39\;s business community are presented. Focusing on various city hall updates and issues\; economic development\, transportation\, environment\, community news and of course provides an opportunity to network and stay in formed.<br />\n<br />\n<u><strong>SPACE IS LIMITED\, REGISTRATION IS REQUIRED\, NO WALK IN&#39\;S AVAILABLE.</strong></u>
LOCATION:North Fraser Business Innovation Centre 300-22470 Dewdney Trunk Road\, Maple Ridge\, BC V2X 5Z6 Upstairs on 3rd level above City Hall and Service Canada
UID:e.1210.1552
SEQUENCE:3
DTSTAMP:20260422T000655Z
URL:https://business.ridgemeadowschamber.com/events/details/2016-mayor-talks-mayor-nicole-read-city-of-maple-ridge-1552
END:VEVENT

END:VCALENDAR
