BEGIN:VCALENDAR
VERSION:2.0
PRODID:-//ChamberMaster//Event Calendar 2.0//EN
METHOD:PUBLISH
X-PUBLISHED-TTL:P3D
REFRESH-INTERVAL:P3D
CALSCALE:GREGORIAN
BEGIN:VEVENT
DTSTART:20160506T003000Z
DTEND:20160506T020000Z
X-MICROSOFT-CDO-ALLDAYEVENT:FALSE
SUMMARY:2016 INFO SESSION | Discover China
DESCRIPTION:The Chamber of Commerce serving Maple Ridge and Pitt Meadows has partnered with the Mission Chamber of Commerce to bring a trip of a lifetime to our community!\n\n\n\nCheck the Great Wall of China off your bucket list this year. Find out more abut this 11 day all inclusive holiday to China Oct 7 - 17\, 2016.\n\n\n\nTwo tour options are available:\n\n1. Classic China             $2\,299\n\n2. Terra Cotta Warriors    $2\,499\n\n\n\nSpace is limited and there are only 15 more spots available\n\n\n\nThis amazing tour is open to ANYONE!\n\nChamber members and non-members\, non-members pay an additional $200.\n\n\n\nSPACE FOR THE INFO SESSION IS LIMITED SO PLEASE REGISTER IN ADVANCE!
X-ALT-DESC;FMTTYPE=text/html:The Chamber of Commerce serving Maple Ridge and Pitt Meadows has partnered with the Mission Chamber of Commerce to bring a trip of a lifetime to our community!<br />\n<br />\nCheck the Great Wall of China off your bucket list this year. Find out more abut this 11 day all inclusive holiday to China Oct 7 - 17\, 2016.<br />\n<br />\nTwo tour options are available:<br />\n1. Classic&nbsp\;China&nbsp\;&nbsp\;&nbsp\;&nbsp\;&nbsp\;&nbsp\;&nbsp\;&nbsp\;&nbsp\; &nbsp\; &nbsp\;$2\,299<br />\n2. Terra Cotta Warriors&nbsp\; &nbsp\; $2\,499<br />\n<br />\nSpace is limited and there are only 15 more spots available<br />\n<br />\nThis amazing tour is open to ANYONE!<br />\nChamber members and non-members\, non-members pay an additional $200.<br />\n<br />\nSPACE FOR THE INFO SESSION IS LIMITED SO PLEASE REGISTER IN ADVANCE!
LOCATION:Chamber of Commerce Office 12492 Harris Rd Pitt Meadows\, BC 604-457-4599 (space is limited so location may change if we have several people register for the info session. You will be contacted if any changes occur)
UID:e.1210.1420
SEQUENCE:3
DTSTAMP:20260422T024625Z
URL:https://business.ridgemeadowschamber.com/events/details/2016-info-session-discover-china-05-05-2016-1420
END:VEVENT

END:VCALENDAR
