BEGIN:VCALENDAR
VERSION:2.0
PRODID:-//ChamberMaster//Event Calendar 2.0//EN
METHOD:PUBLISH
X-PUBLISHED-TTL:P3D
REFRESH-INTERVAL:P3D
CALSCALE:GREGORIAN
BEGIN:VEVENT
DTSTART:20160511T184500Z
DTEND:20160511T201500Z
X-MICROSOFT-CDO-ALLDAYEVENT:FALSE
SUMMARY:2016 General Meeting | Economic Development Luncheon with Lino Siracusa
DESCRIPTION:Join us at our General Meeting and Economic Development Luncheon with keynote speaker Lino Siracusa\, Manager of Maple Ridge Economic Development. \n\n\n\nAbout Lino Siracusa\nBefore CMHC\, Lino was the economic development manager for the City of Richmond. During his employment there\, the city consistently attracted more jobs than the regional average\, said a release from the City of Maple Ridge.\n\nSiracusa brings experience in economic development\, real estate and property management\, finance and place making to Maple Ridge\, said Frances King\, director of human resources.\n\nSiracusa holds an MBA and BA in urban economic geography.  He is a director of the Italian Chamber of Commerce Western Canada.
X-ALT-DESC;FMTTYPE=text/html:<span style="font-size:14px\;">Join us at our General Meeting and Economic Development Luncheon with keynote speaker Lino Siracusa\, Manager of Maple Ridge Economic Development.&nbsp\;<br />\n<br />\n<u><strong>About Lino Siracusa</strong></u></span>\n<p class="p2" style="margin: 0px 0px 1em\; font-size: 15px\; color: rgb(68\, 68\, 68)\; font-family: 'Source Sans Pro'\, sans-serif\; line-height: 22px\;"><span style="font-size:14px\;"><span class="s1">Before CMHC\, Lino was the economic development manager for the City of Richmond. During his employment there\, the city consistently attracted more jobs than the regional average\, said a release from the City of Maple Ridge.</span></span></p>\n\n<p class="p2" style="margin: 0px 0px 1em\; font-size: 15px\; color: rgb(68\, 68\, 68)\; font-family: 'Source Sans Pro'\, sans-serif\; line-height: 22px\;"><span style="font-size:14px\;"><span class="s1">Siracusa brings experience in economic development\, real estate and property management\, finance and place making to Maple Ridge\, said Frances King\, director of human resources.</span></span></p>\n\n<p class="p2" style="margin: 0px 0px 1em\; font-size: 15px\; color: rgb(68\, 68\, 68)\; font-family: 'Source Sans Pro'\, sans-serif\; line-height: 22px\;"><span style="font-size:14px\;"><span class="s1">Siracusa holds an MBA and BA in urban economic geography. &nbsp\;He is a director of the Italian Chamber of Commerce Western Canada.</span></span></p>\n
LOCATION:CHANGE OF VENUE Meadow Gardens Golf Club 19675 Meadow Gardens Way\, Pitt Meadows\, BC V3Y 1Z2
UID:e.1210.1261
SEQUENCE:3
DTSTAMP:20260422T024849Z
URL:https://business.ridgemeadowschamber.com/events/details/2016-general-meeting-economic-development-luncheon-with-lino-siracusa-1261
END:VEVENT

END:VCALENDAR
