BEGIN:VCALENDAR
VERSION:2.0
PRODID:-//ChamberMaster//Event Calendar 2.0//EN
METHOD:PUBLISH
X-PUBLISHED-TTL:P3D
REFRESH-INTERVAL:P3D
CALSCALE:GREGORIAN
BEGIN:VEVENT
DTSTART;VALUE=DATE:20161007
DTEND;VALUE=DATE:20161018
TRANSP:TRANSPARENT
X-MICROSOFT-CDO-ALLDAYEVENT:TRUE
SUMMARY:2016 Discover China | October 7 - 17 2016
DESCRIPTION:Travel with business leaders and friends for this once in a lifetime China Adventure.\n\n\n\nTrip includes: \n\n\n	Round-trip international airfare from Vancouver\n	Accommodation in 4/5 Star hotels\n	3 meals per day\n	All in-country transportation\n	Experienced English-speaking tour guides\n	All tour fees \n\nYour adventure departs October 7th and returns October 17th\, 2016.
X-ALT-DESC;FMTTYPE=text/html:<p style="line-height: 20.8px\;">Travel with business leaders and friends for this once in a lifetime China Adventure.<br />\n<br />\nTrip includes:&nbsp\;</p>\n\n<ul style="line-height: 20.8px\;">\n	<li>Round-trip international airfare from Vancouver</li>\n	<li>Accommodation in 4/5 Star hotels</li>\n	<li>3 meals per day</li>\n	<li>All in-country transportation</li>\n	<li>Experienced English-speaking tour guides</li>\n	<li>All tour fees&nbsp\;</li>\n</ul>\n<strong style="line-height: 20.8px\;">Your adventure departs October 7th and returns October&nbsp\;17th\, 2016.&nbsp\;</strong>
LOCATION:Day 1 - YVR/Beijing Day 2-6 - Beijing Day 7 - Shanghai / Suzhou Day 8 - Hangzhou Day 9-11 - Shanghai Day 11 - Shanghai/YVR
UID:e.1210.1203
SEQUENCE:3
DTSTAMP:20260421T174806Z
URL:https://business.ridgemeadowschamber.com/events/details/2016-discover-china-october-7-17-2016-1203
END:VEVENT

END:VCALENDAR
