BEGIN:VCALENDAR
VERSION:2.0
PRODID:-//ChamberMaster//Event Calendar 2.0//EN
METHOD:PUBLISH
X-PUBLISHED-TTL:P3D
REFRESH-INTERVAL:P3D
CALSCALE:GREGORIAN
BEGIN:VEVENT
DTSTART:20161115T020000Z
DTEND:20161115T040000Z
X-MICROSOFT-CDO-ALLDAYEVENT:FALSE
SUMMARY:2016 Construction & Development Advocacy Workship
DESCRIPTION:We would like to invite you to a meeting at Chances Casino boardroom\, where we will discuss the possibility of providing some relief to challenges experienced in the construction and development industry.\n\n\n\nAs business operators in the community\, some have had challenges in getting work done. We recognize that and believe that by representing you\, we can take you through a process to identify strengths\, weaknesses\, and opportunity in order to advocate for needed change with one large voice.\n\n\n\nSeating is limited\, registration is required. Membership is manditory.
X-ALT-DESC;FMTTYPE=text/html:<p style="text-align: justify\;"><span style="font-size:14px\;"><span style="font-family:arial\;"><span style="color: rgb(102\, 102\, 102)\;">We would like to invite you to a meeting at Chances Casino boardroom\,&nbsp\;where we will discuss the possibility of providing some relief to challenges experienced in the construction and development industry.</span><br />\n<br background-attachment:="" background-clip:="" background-image:="" background-origin:="" background-position:="" background-repeat:="" background-size:="" border-collapse:="" border-radius:="" border:="" height:="" left:="" line-height:="" margin:="" max-height:="" max-width:="" min-height:="" min-width:="" new="" opacity:="" outline-offset:="" overflow:="" padding:="" position:="" resize:="" right:="" style="bottom: auto\; box-sizing: content-box\; clear: none\; color: rgb(102\, 102\, 102)\; content: normal\; direction: inherit\; display: inline\; empty-cells: show\; float: none\; font-variant-numeric: inherit\; font-stretch: inherit\; font-size: 16px\; font-family: " table-layout:="" text-overflow:="" times="" top:="" vertical-align:="" visibility:="" width:="" word-break:="" word-wrap:="" z-index:="" />\n<span style="color: rgb(102\, 102\, 102)\;">As business operators in the community\, some have had challenges in getting work done. We recognize that and believe that by representing you\, we can take you through a process to identify strengths\, weaknesses\, and opportunity in order to advocate for needed change with one large voice.</span><br />\n<br background-attachment:="" background-clip:="" background-image:="" background-origin:="" background-position:="" background-repeat:="" background-size:="" border-collapse:="" border-radius:="" border:="" height:="" left:="" line-height:="" margin:="" max-height:="" max-width:="" min-height:="" min-width:="" new="" opacity:="" outline-offset:="" overflow:="" padding:="" position:="" resize:="" right:="" style="bottom: auto\; box-sizing: content-box\; clear: none\; color: rgb(102\, 102\, 102)\; content: normal\; direction: inherit\; display: inline\; empty-cells: show\; float: none\; font-variant-numeric: inherit\; font-stretch: inherit\; font-size: 16px\; font-family: " table-layout:="" text-overflow:="" times="" top:="" vertical-align:="" visibility:="" width:="" word-break:="" word-wrap:="" z-index:="" />\n<strong><em><span style="color: rgb(102\, 102\, 102)\;">Seating is limited\, registration is required. Membership is manditory.</span></em></strong></span></span></p>\n
LOCATION:Chances Maple Ridge Boardroom 22710 Lougheed Hwy\, Maple Ridge\, BC V2X 2V6
UID:e.1210.1696
SEQUENCE:3
DTSTAMP:20260421T173434Z
URL:https://business.ridgemeadowschamber.com/events/details/2016-construction-development-advocacy-workship-1696
END:VEVENT

END:VCALENDAR
