BEGIN:VCALENDAR
VERSION:2.0
PRODID:-//ChamberMaster//Event Calendar 2.0//EN
METHOD:PUBLISH
X-PUBLISHED-TTL:P3D
REFRESH-INTERVAL:P3D
CALSCALE:GREGORIAN
BEGIN:VEVENT
DTSTART:20160921T010000Z
DTEND:20160921T030000Z
X-MICROSOFT-CDO-ALLDAYEVENT:FALSE
SUMMARY:2016 Construction and Development Industry Round Table Consultation
DESCRIPTION:We would like to invite you to a meeting at Chances Casino boardroom on September 20th 2016 at 6pm where we will provide a short presentation and discuss the possibility of providing some relief to challenges experienced in the construction and development industry.\n\n\n\nAs business operators in the community\, some have had challenges in getting work done. We recognize that and believe that by representing you\, we can take you through a process to identify strengths\, weaknesses\, and opportunity in order to advocate for needed change with one large voice.\n\n\n\nSeating is limited\, registration is required.
X-ALT-DESC;FMTTYPE=text/html:<span style="font-family:times new roman\,serif\;"><span style="font-size:12.0pt\;">We would like to invite you to a meeting at Chances Casino boardroom on September 20th 2016 at 6pm where we will provide a short presentation and discuss the possibility of providing some relief to challenges experienced in the construction and development industry.<br />\n<br />\nAs business operators in the community\, some have had challenges in getting work done. We recognize that and believe that by representing you\, we can take you through a process to identify strengths\, weaknesses\, and opportunity in order to advocate for needed change with one large voice.<br />\n<br />\nSeating is limited\, registration is required.</span></span>
LOCATION:Chances Maple Ridge Boardroom 22710 Lougheed Hwy\, Maple Ridge\, BC V2X 2V6
UID:e.1210.1673
SEQUENCE:3
DTSTAMP:20260421T211555Z
URL:https://business.ridgemeadowschamber.com/events/details/2016-construction-and-development-industry-round-table-consultation-1673
END:VEVENT

END:VCALENDAR
