BEGIN:VCALENDAR
VERSION:2.0
PRODID:-//ChamberMaster//Event Calendar 2.0//EN
METHOD:PUBLISH
X-PUBLISHED-TTL:P3D
REFRESH-INTERVAL:P3D
CALSCALE:GREGORIAN
BEGIN:VEVENT
DTSTART:20161101T160000Z
DTEND:20161101T220000Z
X-MICROSOFT-CDO-ALLDAYEVENT:FALSE
SUMMARY:2016 COMMUNITY EVENT | MyBizDay Metro Vancouver - Small Business BC
DESCRIPTION:MyBizDay Metro Vancouver is a full-day education event featuring workshops\, exhibits and networking for small business owners and entrepreneurs looking to start or grow their business. This event happens on Tuesday\, November 1\, 2016 at Roundhouse Community Arts & Recreation Centre and includes these presentations:   Market Research: Find Data That Works for You   Presented by Small Business BC   Financing and Start-Up Money   Presented by TD Bank Group   Protecting Your Small Business   Presented by TruShield Insurance   Introduction to TaxSense for Your Business   Presented by Loren\, Nancke & Company\, CPAs   Getting Your Business Ahead in International Trade   Presented by UPS   Maximize Your Digital Presence and Reach More Customers   Presented by Yellow Pages The public and small business community is encouraged to join Small Business BC on the MyBizDay tour. For more information or to register\, visit www.sbbc.co/mbdvan16.
X-ALT-DESC;FMTTYPE=text/html:MyBizDay Metro Vancouver is a full-day education event featuring workshops\, exhibits and networking for small business owners and entrepreneurs looking to start or grow their business. This event happens on Tuesday\, November 1\, 2016 at Roundhouse Community Arts &amp\; Recreation Centre and includes these presentations: &bull\; Market Research: Find Data That Works for You &ndash\; Presented by Small Business BC &bull\; Financing and Start-Up Money &ndash\; Presented by TD Bank Group &bull\; Protecting Your Small Business &ndash\; Presented by TruShield Insurance &bull\; Introduction to TaxSense for Your Business &ndash\; Presented by Loren\, Nancke &amp\; Company\, CPAs &bull\; Getting Your Business Ahead in International Trade &ndash\; Presented by UPS &bull\; Maximize Your Digital Presence and Reach More Customers &ndash\; Presented by Yellow Pages The public and small business community is encouraged to join Small Business BC on the MyBizDay tour. For more information or to register\, visit www.sbbc.co/mbdvan16.
LOCATION:Roundhouse Community Arts & Recreation Centre (181 Roundhouse Mews\, Vancouver\, BC)
UID:e.1210.1678
SEQUENCE:3
DTSTAMP:20260421T162646Z
URL:https://business.ridgemeadowschamber.com/events/details/2016-community-event-mybizday-metro-vancouver-small-business-bc-1678
END:VEVENT

END:VCALENDAR
