BEGIN:VCALENDAR
VERSION:2.0
PRODID:-//ChamberMaster//Event Calendar 2.0//EN
METHOD:PUBLISH
X-PUBLISHED-TTL:P3D
REFRESH-INTERVAL:P3D
CALSCALE:GREGORIAN
BEGIN:VEVENT
DTSTART:20161101T163000Z
DTEND:20161101T220000Z
X-MICROSOFT-CDO-ALLDAYEVENT:FALSE
SUMMARY:2016 COMMUNITY EVENT | 2016 Small Business Information Expo
DESCRIPTION:Join us at the 2016 Fraser Valley Small Business information Expo (#SBIE)!\n\n\n\nConnecting Small Businesses and Support Services\n\n\n\nThis unique event is FREE to attend and brings together subject matter experts from government programs and non-profit organizations that support small business in British Columbia\, to connect with you regarding your business needs. This event is being hosted by the Office of Small and Medium Enterprises\, Greater Langley Chamber of Commerce\, Township of Langley\, City of Langley and the Province of BC.
X-ALT-DESC;FMTTYPE=text/html:<strong>Join us at the 2016 Fraser Valley Small Business information Expo (#SBIE)!<br />\n<br />\nConnecting Small Businesses and Support Services</strong><br />\n<br />\nThis unique event is FREE to attend and brings together subject matter experts from government programs and non-profit organizations that support small business in British Columbia\, to connect with you regarding your business needs. This event is being hosted by the Office of Small and Medium Enterprises\, Greater Langley Chamber of Commerce\, Township of Langley\, City of Langley and the Province of BC.
LOCATION:The Langley Events Centre - 7888 200 Street\, Langley\, BC V2Y 3J4
UID:e.1210.1688
SEQUENCE:3
DTSTAMP:20260421T162228Z
URL:https://business.ridgemeadowschamber.com/events/details/2016-community-event-2016-small-business-information-expo-1688
END:VEVENT

END:VCALENDAR
