BEGIN:VCALENDAR
VERSION:2.0
PRODID:-//ChamberMaster//Event Calendar 2.0//EN
METHOD:PUBLISH
X-PUBLISHED-TTL:P3D
REFRESH-INTERVAL:P3D
CALSCALE:GREGORIAN
BEGIN:VEVENT
DTSTART:20161021T013000Z
DTEND:20161021T040000Z
X-MICROSOFT-CDO-ALLDAYEVENT:FALSE
SUMMARY:2016 Community Dialogue on Homelessness | W5 - The Who\, What\, When\, Where and Why of Homelessness
DESCRIPTION:W5   THE WHO\, WHAT\, WHEN\, WHERE AND WHY OF HOMELESSNESS \n\n\n\nThis session will have subject experts who will discuss the topic of homelessness with an emphasis on the causes and issues that contribute to homelessness. The speakers will address the unique experiences of youth and seniors and provide current and accurate information in a way that is not overly academic.\n\n\n\nPanel Members\n\nDr. Paul Kershaw\, BA\, McGill\, PhD\, UBC\n\nDr. Michael Krausz\, Scientist\, Centre for Health Evaluation and Outcome Sciences (CH OS)\n\nMr. Navjeet Chhina\n\nMr. Mike Pond\, RPN\, MSW\, RSW Therapist\n\n \n\n\nAbout the Subcommittee\n\n\nThe Community Dialogue on Homelessness Subcommittee was formed in June 2016. The role of this Social Policy Advisory Committee subcommittee was to develop a platform for community dialogue on homelessness. The speakers' series will provide a forum for sharing data and relevant information and an opportunity for community members to engage in respectful dialogue on each topic while hearing a range of perspectives.\n\n \n\n\nSubcommittee Meeting Minutes\n \n\n\n	August 25\, 2016\n	September 1\, 2016\n	September 8\, 2016\n	September 22\, 2016
X-ALT-DESC;FMTTYPE=text/html:<br />\n<strong><span style="font-size:16px\;"><span style="color:#008080\;">W5 &ndash\; THE WHO\, WHAT\, WHEN\, WHERE AND WHY OF HOMELESSNESS</span></span> </strong><br />\n<br />\nThis session will have subject experts who will discuss the topic of homelessness with an emphasis on the causes and issues that contribute to homelessness. The speakers will address the unique experiences of youth and seniors and provide current and accurate information in a way that is not overly academic.<br />\n<br />\n<span style="font-size:14px\;"><span style="color:#008080\;"><strong>Panel Members</strong></span></span><br />\n<u><a href="http://earlylearning.ubc.ca/people/Paul_Kershaw/" target="_blank">Dr. Paul Kershaw\, BA\, McGill\, PhD\, UBC</a></u><br />\n<u><a href="http://psychiatry.ubc.ca/person/michael-krausz/" target="_blank">Dr. Michael Krausz\, Scientist\, Centre for Health Evaluation and Outcome Sciences (CH&Eacute\;OS)</a></u><br />\nMr. Navjeet Chhina<br />\n<u><a href="http://michaelpond.ca/" target="_blank">Mr. Mike Pond\, RPN\, MSW\, RSW Therapist</a></u><br />\n&nbsp\;\n<h2 class="subhead1" style="box-sizing: border-box\; margin-top: 0.167em\; border: 0px none\; font-family: Arial\; font-weight: 700\; color: rgb(2\, 34\, 66)\; font-size: 1.2em\; display: inline\;"><br />\n<span style="font-size:14px\;"><span style="color:#008080\;"><strong>About the Subcommittee</strong></span></span></h2>\n<br style="box-sizing: border-box\; color: rgb(52\, 83\, 114)\; font-family: Arial\; font-size: 12.8px\;" />\n<span style="box-sizing: border-box\; margin: 0px\; padding: 0px\; border: 0px\; font-size: 12.8px\; font-family: Arial\; vertical-align: baseline\; outline: 0px\; color: rgb(52\, 83\, 114)\;">The Community Dialogue on Homelessness Subcommittee was formed in June 2016. The role of this Social Policy Advisory Committee subcommittee was to develop a platform for community dialogue on homelessness. The speakers&rsquo\; series will provide a forum for sharing data and relevant information and an opportunity for community members to engage in respectful dialogue on each topic while hearing a range of perspectives.</span><br />\n&nbsp\;\n<h2 class="subhead1" style="box-sizing: border-box\; margin-top: 0.167em\; border: 0px none\; font-family: Arial\; font-weight: 700\; color: rgb(2\, 34\, 66)\; font-size: 1.2em\; display: inline\;"><br />\n<span style="font-size:14px\;"><span style="color:#008080\;"><strong>Subcommittee Meeting Minutes</strong></span></span></h2>\n&nbsp\;\n\n<ul style="box-sizing: border-box\; margin: 0px 0px 1.4em\; padding-right: 0px\; padding-left: 1.5em\; color: rgb(52\, 83\, 114)\; font-family: Arial\; font-size: 12.8px\;">\n	<li style="box-sizing: border-box\; margin-bottom: 0.35em\; border: 0px none\;"><u><a class="Hyperlink" href="http://www.mapleridge.ca/DocumentCenter/View/9199" style="box-sizing: border-box\; color: rgb(13\, 90\, 162)\; line-height: 1.4\;" target="_blank">August 25\, 2016</a></u></li>\n	<li style="box-sizing: border-box\; margin-bottom: 0.35em\; border: 0px none\;"><u><a class="Hyperlink" href="http://www.mapleridge.ca/DocumentCenter/View/9200" style="box-sizing: border-box\; color: rgb(13\, 90\, 162)\; line-height: 1.4\;" target="_blank">September 1\, 2016</a></u></li>\n	<li style="box-sizing: border-box\; margin-bottom: 0.35em\; border: 0px none\;"><u><a class="Hyperlink" href="http://www.mapleridge.ca/DocumentCenter/View/9198" style="box-sizing: border-box\; color: rgb(13\, 90\, 162)\; line-height: 1.4\;" target="_blank">September 8\, 2016</a></u></li>\n	<li style="box-sizing: border-box\; margin-bottom: 0.35em\; border: 0px none\;"><u><a class="Hyperlink" href="http://www.mapleridge.ca/DocumentCenter/View/9609" style="box-sizing: border-box\; color: rgb(13\, 90\, 162)\;" target="_blank">September 22\, 2016</a></u></li>\n</ul>\n
LOCATION:The ACT Arts Centre\, Main Theatre 11944 Haney Place\, Maple Ridge
UID:e.1210.1702
SEQUENCE:3
DTSTAMP:20260421T175734Z
URL:https://business.ridgemeadowschamber.com/events/details/2016-community-dialogue-on-homelessness-w5-the-who-what-when-where-and-why-of-homelessness-1702
END:VEVENT

END:VCALENDAR
