BEGIN:VCALENDAR
VERSION:2.0
PRODID:-//ChamberMaster//Event Calendar 2.0//EN
METHOD:PUBLISH
X-PUBLISHED-TTL:P3D
REFRESH-INTERVAL:P3D
CALSCALE:GREGORIAN
BEGIN:VEVENT
DTSTART:20161027T013000Z
DTEND:20161027T040000Z
X-MICROSOFT-CDO-ALLDAYEVENT:FALSE
SUMMARY:2016 Community Dialogue on Homelessness | Jurisdictional Matters - Challenges & Opportunities
DESCRIPTION:JURISDICTIONAL MATTERS   CHALLENGES & OPPORTUNITIES\n\n\n\nThis session will focus on the moral and legal responsibilities of government to assist in finding solutions for this difficult social issue. This session will examine the constant struggle to balance individual liberty and the collective responsibility for shelter and housing services.\n\n\n\nPanel Members\n\nSupt. Dave Fleugel\, Ridge Meadows RCMP\n\nMs. Lisa Spitale\, Chief Administrative Officer\, City of New Westminster \n\nMr. James Yardley\, Partner\, Murdy & McAllister\n\n \n\n\nAbout the Subcommittee\n\n\nThe Community Dialogue on Homelessness Subcommittee was formed in June 2016. The role of this Social Policy Advisory Committee subcommittee was to develop a platform for community dialogue on homelessness. The speakers' series will provide a forum for sharing data and relevant information and an opportunity for community members to engage in respectful dialogue on each topic while hearing a range of perspectives.\n\n \n\n\nSubcommittee Meeting Minutes\n  \n\n\n	August 25\, 2016\n	September 1\, 2016\n	September 8\, 2016\n	September 22\, 2016
X-ALT-DESC;FMTTYPE=text/html:<br />\n<span style="font-size:16px\;"><span style="color:#008080\;"><strong>JURISDICTIONAL MATTERS &ndash\; CHALLENGES &amp\; OPPORTUNITIES</strong></span></span><br />\n<br />\nThis session will focus on the moral and legal responsibilities of government to assist in finding solutions for this difficult social issue. This session will examine the constant struggle to balance individual liberty and the collective responsibility for shelter and housing services.<br />\n<br />\n<span style="font-size:14px\;"><span style="color:#008080\;"><strong>Panel Members</strong></span></span><br />\nSupt. Dave Fleugel\, Ridge Meadows RCMP<br />\n<u><a href="http://www.mapleridge.ca/DocumentCenter/View/9631" target="_blank">Ms. Lisa Spitale\, Chief Administrative Officer\, City of New Westminster </a><br />\n<a href="http://www.murdymcallister.com/james-yardley" target="_blank">Mr. James Yardley\, Partner\, Murdy &amp\; McAllister</a></u><br />\n&nbsp\;\n<h2 class="subhead1" style="font-weight: 700\; box-sizing: border-box\; margin-top: 0.167em\; border: 0px none\; font-family: Arial\; color: rgb(2\, 34\, 66)\; font-size: 1.2em\; display: inline\;"><br />\n<span style="font-size: 14px\;"><span style="color: rgb(0\, 128\, 128)\;"><strong>About&nbsp\;the Subcommittee</strong></span></span></h2>\n<br style="box-sizing: border-box\; color: rgb(52\, 83\, 114)\; font-family: Arial\; font-size: 12.8px\;" />\n<span style="box-sizing: border-box\; margin: 0px\; padding: 0px\; border: 0px\; font-size: 12.8px\; font-family: Arial\; vertical-align: baseline\; outline: 0px\; color: rgb(52\, 83\, 114)\;">The Community&nbsp\;Dialogue&nbsp\;on Homelessness Subcommittee was formed in June 2016. The role of this Social Policy Advisory Committee subcommittee was to develop a platform for community&nbsp\;dialogue&nbsp\;on homelessness. The speakers&rsquo\; series will provide a forum for sharing data and relevant information and an opportunity for community members to engage in respectful&nbsp\;dialogue&nbsp\;on each topic while hearing a range of perspectives.</span><br />\n&nbsp\;\n<h2 class="subhead1" style="font-weight: 700\; box-sizing: border-box\; margin-top: 0.167em\; border: 0px none\; font-family: Arial\; color: rgb(2\, 34\, 66)\; font-size: 1.2em\; display: inline\;"><br />\n<span style="font-size: 14px\;"><span style="color: rgb(0\, 128\, 128)\;"><strong>Subcommittee Meeting Minutes</strong></span></span></h2>\n&nbsp\;&nbsp\;\n\n<ul style="padding-right: 0px\; padding-left: 1.5em\; box-sizing: border-box\; margin: 0px 0px 1.4em\; color: rgb(52\, 83\, 114)\; font-family: Arial\; font-size: 12.8px\;">\n	<li style="box-sizing: border-box\; margin-bottom: 0.35em\; border: 0px none\;"><u><a class="Hyperlink" href="http://www.mapleridge.ca/DocumentCenter/View/9199" style="color: rgb(13\, 90\, 162)\; box-sizing: border-box\; line-height: 1.4\;" target="_blank">August 25\, 2016</a></u></li>\n	<li style="box-sizing: border-box\; margin-bottom: 0.35em\; border: 0px none\;"><u><a class="Hyperlink" href="http://www.mapleridge.ca/DocumentCenter/View/9200" style="color: rgb(13\, 90\, 162)\; box-sizing: border-box\; line-height: 1.4\;" target="_blank">September 1\, 2016</a></u></li>\n	<li style="box-sizing: border-box\; margin-bottom: 0.35em\; border: 0px none\;"><u><a class="Hyperlink" href="http://www.mapleridge.ca/DocumentCenter/View/9198" style="color: rgb(13\, 90\, 162)\; box-sizing: border-box\; line-height: 1.4\;" target="_blank">September 8\, 2016</a></u></li>\n	<li style="box-sizing: border-box\; margin-bottom: 0.35em\; border: 0px none\;"><u><a class="Hyperlink" href="http://www.mapleridge.ca/DocumentCenter/View/9609" style="color: rgb(13\, 90\, 162)\; box-sizing: border-box\;" target="_blank">September 22\, 2016</a></u></li>\n</ul>\n
LOCATION:The ACT Arts Centre\, Main Theatre 11944 Haney Place\, Maple Ridge
UID:e.1210.1703
SEQUENCE:3
DTSTAMP:20260421T190409Z
URL:https://business.ridgemeadowschamber.com/events/details/2016-community-dialogue-on-homelessness-jurisdictional-matters-challenges-opportunities-1703
END:VEVENT

END:VCALENDAR
