BEGIN:VCALENDAR
VERSION:2.0
PRODID:-//ChamberMaster//Event Calendar 2.0//EN
METHOD:PUBLISH
X-PUBLISHED-TTL:P3D
REFRESH-INTERVAL:P3D
CALSCALE:GREGORIAN
BEGIN:VEVENT
DTSTART:20161027T183000Z
DTEND:20161027T210000Z
X-MICROSOFT-CDO-ALLDAYEVENT:FALSE
SUMMARY:2016 Business Excellence Awards Nominees Luncheon
DESCRIPTION:2016 NOMINEES LUNCHEON\n\n\n\nDon't miss the Nominee Luncheon\, celebrating all the businesses who have been nominated for the 2016 Business Excellence Awards.\n\n\n\nThis is the first step in a 6 month process leading up to the Gala and Awards night.\n\n\n\nCome out and support your local businesses and cheer them on! \n\n\n\nPlease let us know if you have any dietary restrictions\, at least 48 hours before the event.
X-ALT-DESC;FMTTYPE=text/html:<br />\n<span style="font-size:16px\;"><span style="color:#008080\;"><strong>2016 NOMINEES LUNCHEON</strong></span></span><br />\n<br />\nDon&rsquo\;t miss the Nominee Luncheon\, celebrating all the businesses who have been nominated for the 2016 Business Excellence Awards.<br />\n<br />\nThis is the first step in a 6 month process leading up to the Gala and Awards night.<br />\n<br />\nCome out and support your local businesses and cheer them on!&nbsp\;<br />\n<br />\n<em><strong>Please let us know if you have any dietary restrictions\, at least 48 hours before the event.</strong></em><br />\n&nbsp\;
LOCATION:Pitt Meadows Golf Club 13615 Harris Rd Pitt Meadows\, BC V3Y 2R8
UID:e.1210.1684
SEQUENCE:3
DTSTAMP:20260421T190415Z
URL:https://business.ridgemeadowschamber.com/events/details/2016-business-excellence-awards-nominees-luncheon-1684
END:VEVENT

END:VCALENDAR
