BEGIN:VCALENDAR
VERSION:2.0
PRODID:-//ChamberMaster//Event Calendar 2.0//EN
METHOD:PUBLISH
X-PUBLISHED-TTL:P3D
REFRESH-INTERVAL:P3D
CALSCALE:GREGORIAN
BEGIN:VEVENT
DTSTART:20160318T000000Z
DTEND:20160318T020000Z
X-MICROSOFT-CDO-ALLDAYEVENT:FALSE
SUMMARY:2016 BizNiz Mixer | Ridge Brewing Co.
DESCRIPTION:***PLEASE CALL US TO REGISTER FOR THIS EVENT. SPACE IS LIMITED***\n\n\n\nJoin us for a fun St. Patrick's Day mixer! Come down to Ridge Brewing for a beer and network with other Chamber members. \n\n\n\nThe BizNiz Mixer is a great opportunity to meet other Chamber members and new non-members. Bring a friendly smile\, a stack of business cards and a firm handshake. \n\nWear green!
X-ALT-DESC;FMTTYPE=text/html:<p><span style="font-size:16px\;"><strong><span style="color:#008000\;">***PLEASE CALL US TO REGISTER FOR THIS EVENT. SPACE IS LIMITED***</span></strong></span><br />\n<br />\nJoin us for a fun St. Patrick&#39\;s Day mixer! Come down to Ridge Brewing for a beer and network with other Chamber members.&nbsp\;<br />\n<br />\n<span style="line-height: 18.9091px\;">The&nbsp\;</span>BizNiz<span style="line-height: 18.9091px\;">&nbsp\;Mixer is a great opportunity to meet other Chamber members and new non-members. Bring a friendly smile\, a stack of business cards and a firm handshake.&nbsp\;</span></p>\n\n<p><span style="line-height: 18.9091px\;">Wear green!</span></p>\n
LOCATION:Ridge Brewing Co #2 22826 Dewdney Tr Rd Maple Ridge BC
UID:e.1210.1264
SEQUENCE:3
DTSTAMP:20260422T052444Z
URL:https://business.ridgemeadowschamber.com/events/details/2016-bizniz-mixer-ridge-brewing-co-1264
END:VEVENT

END:VCALENDAR
