BEGIN:VCALENDAR
VERSION:2.0
PRODID:-//ChamberMaster//Event Calendar 2.0//EN
METHOD:PUBLISH
X-PUBLISHED-TTL:P3D
REFRESH-INTERVAL:P3D
CALSCALE:GREGORIAN
BEGIN:VEVENT
DTSTART:20161201T010000Z
DTEND:20161201T030000Z
X-MICROSOFT-CDO-ALLDAYEVENT:FALSE
SUMMARY:2016 BizNiz Mixer | Regus Grand Opening
DESCRIPTION:You're invited to network at our popular BizNiz Mixer hosted by Regus\; celebrating their Grand Opening! A unique opportunity to mix and mingle with like minded business leaders and professionals from both communities.\n\n \n\nOur BizNiz Mixers are complimentary with your membership and designed specifically to encourage networking. Here you can learn about our host\, Regus and other Chamber members? products and service with the chance to meet prospective customers\, clients and partners. Building relationships and making business connections are key strategies for small business success.\n\n\n\nBring your business cards!\n \n\nBring a guest! Are you a member interested in bringing a non-member? We would love to have them join us\, be sure to add them as your guest when you register.\n\n\n\n\n\nInterested in hosting a BizNiz Mixer? \n\nContact Tami\, 604-457-4599 or tami@ridgemeadowschamber.com.
X-ALT-DESC;FMTTYPE=text/html:<div style="text-align: justify\;"><br />\n<span style="font-size:14px\;"><span style="font-family:arial\;">You&#39\;re invited to network at our popular BizNiz Mixer hosted by Regus\; celebrating their Grand Opening! A unique opportunity to mix and mingle with like minded business leaders and professionals from both communities.<br />\n&nbsp\;<br />\nOur BizNiz Mixers are complimentary with your membership and designed specifically to encourage networking. Here you can learn about our host\, Regus and other Chamber members? products and service with the chance to meet prospective customers\, clients and partners. Building relationships and making business connections are key strategies for small business success.<br />\n<br />\nBring your business cards!</span></span></div>\n<span style="font-size:14px\;"><span style="font-family:arial\;">&nbsp\;</span></span><br />\n<span style="font-size:14px\;"><span style="font-family:arial\;"><span style="color:#000000\;">Bring a guest! Are you a member interested in bringing a non-member? We would love to have them join us\, be sure to add them as your guest when you register.</span></span></span><br />\n<br />\n<br />\n<span style="font-size:14px\;"><span style="font-family:arial\;"><span style="font-weight:bold\;"><span style="color:#800080\;">Interested in hosting a BizNiz Mixer? </span></span><br />\nContact Tami\, 604-457-4599 or tami@ridgemeadowschamber.com.</span></span>
LOCATION:Regus Office Suite 300\, 22420 Dewdney Trunk Road Maple Ridge\, BC V2X 3J5
UID:e.1210.1707
SEQUENCE:3
DTSTAMP:20260421T162412Z
URL:https://business.ridgemeadowschamber.com/events/details/2016-bizniz-mixer-regus-grand-opening-1707
END:VEVENT

END:VCALENDAR
