BEGIN:VCALENDAR
VERSION:2.0
PRODID:-//ChamberMaster//Event Calendar 2.0//EN
METHOD:PUBLISH
X-PUBLISHED-TTL:P3D
REFRESH-INTERVAL:P3D
CALSCALE:GREGORIAN
BEGIN:VEVENT
DTSTART:20160625T180000Z
DTEND:20160625T210000Z
X-MICROSOFT-CDO-ALLDAYEVENT:FALSE
SUMMARY:2016 BizNiz Mixer | Pitt Meadows Paddling Club Open House
DESCRIPTION:Come play with us!\n\n\n\nTry out a dragon boat\, or a voyageur canoe. or an Outrigger Canoe. See what the club has for you. We offer programs for all ages and all stages.
X-ALT-DESC;FMTTYPE=text/html:<span style="color: rgb(102\, 102\, 102)\; font-family: Helvetica\; font-size: 13.68px\;">Come play with us!<br />\n<br />\nTry out a dragon boat\, or a voyageur canoe. or an Outrigger Canoe. See what the club has for you. We offer programs for all ages and all stages.</span>
LOCATION:14411 Harris Road\, Pitt Meadows\, BC
UID:e.1210.1433
SEQUENCE:3
DTSTAMP:20260422T012627Z
URL:https://business.ridgemeadowschamber.com/events/details/2016-bizniz-mixer-pitt-meadows-paddling-club-open-house-1433
END:VEVENT

END:VCALENDAR
