BEGIN:VCALENDAR
VERSION:2.0
PRODID:-//ChamberMaster//Event Calendar 2.0//EN
METHOD:PUBLISH
X-PUBLISHED-TTL:P3D
REFRESH-INTERVAL:P3D
CALSCALE:GREGORIAN
BEGIN:VEVENT
DTSTART:20170324T000000Z
DTEND:20170324T020000Z
X-MICROSOFT-CDO-ALLDAYEVENT:FALSE
SUMMARY:2016 BizNiz Mixer I The Co-operators
DESCRIPTION:You're invited to network at our popular BizNiz Mixer hosted by The Co-operators! A unique opportunity to mix and mingle with like minded business leaders and professionals from both communities.\n\n \n\nOur BizNiz Mixers are complimentary with your membership and designed specifically to encourage networking. Here you can learn about our host\, The Co-operators and other Chamber members\, products and service with the chance to meet prospective customers\, clients and partners. Building relationships and making business connections are key strategies for small business success.\n\n\n\nBring your business cards!\n \n\nBring a guest! Are you a member interested in bringing a non-member? We would love to have them join us\, be sure to add them as your guest when you register.\n\n\n\n\n\nInterested in hosting a BizNiz Mixer? \n\nContact Tami\, 604-457-4599 or tami@ridgemeadowschamber.com
X-ALT-DESC;FMTTYPE=text/html:<div style="color: rgb(51\, 51\, 51)\; font-family: sans-serif\, Arial\, Verdana\, &quot\;Trebuchet MS&quot\;\; font-size: 13px\; text-align: justify\;"><span style="font-size: 14px\;"><span style="font-family: arial\;">You&#39\;re invited to network at our popular&nbsp\;BizNiz&nbsp\;Mixer hosted by The Co-operators! A unique opportunity to mix and mingle with like minded business leaders and professionals from both communities.<br />\n&nbsp\;<br />\nOur&nbsp\;BizNiz&nbsp\;Mixers are complimentary with your membership and designed specifically to encourage networking. Here you can learn about our host\, The Co-operators&nbsp\;and other Chamber members\,&nbsp\;products and service with the chance to meet prospective customers\, clients and partners. Building relationships and making business connections are key strategies for small business success.<br />\n<br />\nBring your business cards!</span></span></div>\n<span style="color: rgb(51\, 51\, 51)\; font-family: sans-serif\, Arial\, Verdana\, &quot\;Trebuchet MS&quot\;\; font-size: 14px\;"><span style="font-family: arial\;">&nbsp\;</span></span><br style="color: rgb(51\, 51\, 51)\; font-family: sans-serif\, Arial\, Verdana\, &quot\;Trebuchet MS&quot\;\; font-size: 13px\;" />\n<span style="color: rgb(51\, 51\, 51)\; font-family: sans-serif\, Arial\, Verdana\, &quot\;Trebuchet MS&quot\;\; font-size: 14px\;"><span style="font-family: arial\;"><span style="color: rgb(0\, 0\, 0)\;">Bring a guest! Are you a member interested in bringing a non-member? We would love to have them join us\, be sure to add them as your guest when you register.</span></span></span><br style="color: rgb(51\, 51\, 51)\; font-family: sans-serif\, Arial\, Verdana\, &quot\;Trebuchet MS&quot\;\; font-size: 13px\;" />\n<br style="color: rgb(51\, 51\, 51)\; font-family: sans-serif\, Arial\, Verdana\, &quot\;Trebuchet MS&quot\;\; font-size: 13px\;" />\n<br style="color: rgb(51\, 51\, 51)\; font-family: sans-serif\, Arial\, Verdana\, &quot\;Trebuchet MS&quot\;\; font-size: 13px\;" />\n<span style="color: rgb(51\, 51\, 51)\; font-family: sans-serif\, Arial\, Verdana\, &quot\;Trebuchet MS&quot\;\; font-size: 14px\;"><span style="font-family: arial\;"><span style="font-weight: bold\;"><span style="color: rgb(128\, 0\, 128)\;">Interested in hosting a&nbsp\;BizNiz&nbsp\;Mixer?&nbsp\;</span></span><br />\nContact Tami\, 604-457-4599 or&nbsp\;tami@ridgemeadowschamber.com</span></span>
LOCATION:#106- 20690 Lougheed Hwy\, Maple Ridge\, BC V2X 2P8
UID:e.1210.1720
SEQUENCE:3
DTSTAMP:20260421T104702Z
URL:https://business.ridgemeadowschamber.com/events/details/2016-bizniz-mixer-i-the-co-operators-1720
END:VEVENT

END:VCALENDAR
