BEGIN:VCALENDAR
VERSION:2.0
PRODID:-//ChamberMaster//Event Calendar 2.0//EN
METHOD:PUBLISH
X-PUBLISHED-TTL:P3D
REFRESH-INTERVAL:P3D
CALSCALE:GREGORIAN
BEGIN:VEVENT
DTSTART:20161110T010000Z
DTEND:20161110T033000Z
X-MICROSOFT-CDO-ALLDAYEVENT:FALSE
SUMMARY:2016 Annual General Meeting
DESCRIPTION:LAST MINUTE REGISTRATIONS PLEASE CONTACT OFFICE\n\n\n\nAnnual General Meeting (AGM) \n\n    Welcome and Opening Remarks\n\n    Networking\n\n \n\nAGM FORMAT\n\n    Call the Meeting to Order\n\n    Motion to Approve the Minutes of the 2015 AGM\n\n    President's Report\n\n    Treasurer's Report  \n\n    Motion to Approve 2015 Financial Report\n\n\n\n  Presentation of the 2017-2019 Board of Directors  \n\n\n\n      Networking
X-ALT-DESC;FMTTYPE=text/html:<span style="color:#008080\;"><strong style="font-size: 12px\; font-family: arial\; line-height: 1.6\;">LAST MINUTE REGISTRATIONS PLEASE CONTACT OFFICE<br />\n<br />\nAnnual General Meeting (AGM)</strong><span style="font-size:26px\;"><strong style="font-size: 12px\; font-family: arial\; line-height: 1.6\;">&nbsp\;</strong></span></span><br />\n&nbsp\; &nbsp\;&nbsp\;<span style="font-family: arial\;"><span style="font-size: 11px\;"><span style="font-size: 12px\;">Welcome and&nbsp\;Opening Remarks</span></span></span><br />\n&nbsp\; &nbsp\;&nbsp\;<span style="font-family: arial\;"><span style="font-size: 11px\;"><span style="font-size: 12px\;">Networking<br />\n&nbsp\;<br />\n<strong>AGM FORMAT</strong></span></span></span><br />\n&nbsp\;&nbsp\;&nbsp\;&nbsp\;<span style="font-family: arial\;"><span style="font-size: 11px\;"><span style="font-size: 12px\;">Call the Meeting to Order</span></span></span><br />\n&nbsp\;&nbsp\;&nbsp\;&nbsp\;<span style="font-family: arial\;"><span style="font-size: 11px\;"><span style="font-size: 12px\;">Motion to Approve the Minutes of the 2015 AGM</span></span></span><br />\n&nbsp\;&nbsp\;&nbsp\;&nbsp\;<span style="font-family: arial\;"><span style="font-size: 11px\;"><span style="font-size: 12px\;">President&#39\;s Report</span></span></span><br />\n&nbsp\;&nbsp\;&nbsp\;&nbsp\;<span style="font-family: arial\;"><span style="font-size: 11px\;"><span style="font-size: 12px\;">Treasurer&rsquo\;s Report &nbsp\;<br />\n&nbsp\; &nbsp\; Motion to Approve 2015 Financial Report<br />\n<br />\n<em>&lt\;&lt\;Presentation of the 2017-2019 Board of Directors&gt\;&gt\;</em><br />\n<br />\n&nbsp\; &nbsp\; &nbsp\; Networking<br />\n&nbsp\;</span></span></span><br />\n&nbsp\;
LOCATION:Chances\, Maple Ridge 22710 Lougheed Hwy\, Maple Ridge\, BC V2X 2V6
UID:e.1210.1694
SEQUENCE:3
DTSTAMP:20260421T173358Z
URL:https://business.ridgemeadowschamber.com/events/details/2016-annual-general-meeting-1694
END:VEVENT

END:VCALENDAR
