BEGIN:VCALENDAR
VERSION:2.0
PRODID:-//ChamberMaster//Event Calendar 2.0//EN
METHOD:PUBLISH
X-PUBLISHED-TTL:P3D
REFRESH-INTERVAL:P3D
CALSCALE:GREGORIAN
BEGIN:VEVENT
DTSTART:20161208T191500Z
DTEND:20161208T220000Z
X-MICROSOFT-CDO-ALLDAYEVENT:FALSE
SUMMARY:2016 Annual Christmas Luncheon
DESCRIPTION:WINTER WONDERLAND\nJoin us for our Annual Christmas Luncheon! \n\n\n\nLooking for ideas for a Christmas party? We have a party planned for you! Treat your staff to a wonderful time at the Chamber's Annual Christmas Luncheon. Everyone's welcome!\n\n\n\nOur festive year-end event will be held at the Pitt Meadows Golf Club and features a delicious season-inspired lunch.\n\n\n\nSandra Taylor and Jennifer Howard will take you on an enchanting journey with the angelic sound of Harps playing while you enjoy this festive event.\n\n\nGuests at this event will have many opportunities to \n\n\n	Win amazing prizes\, \n	Do some Christmas shopping while enjoying your lunch by bidding on silent auction items. \n	Network with friends\, meet new Chamber members\, business owners and key stakeholders. \n\n Don't forget to visit with our favourite jolly ol'soul\, SANTA CLAUS!!! \n\n\n\n                         \n\nSHOWCASE YOUR BUSINESS!!! \n\nPromote your business by donating products or services for other members to enjoy!\n\n\n\nWe are currently seeking donations for our Silent Auction & Balloon Burst Game! \n\nPlease contact Tami at tami@ridgemeadowschamber.com for more info.
X-ALT-DESC;FMTTYPE=text/html:<br />\n<span style="color:#008080\;"><span style="font-size:22px\;"><strong><span style="font-family:comic sans ms\;">WINTER WONDERLAND</span></strong></span></span>\n<div style="text-align: justify\;"><span style="color:#000000\;"><span style="font-family:arial\,sans-serif\;"><span style="font-size:10pt\;">Join us for our Annual Christmas Luncheon!&nbsp\;</span></span><br />\n<br />\n<span style="font-family:arial\,sans-serif\;"><span style="font-size:10pt\;">Looking for ideas for a Christmas party? We have a party planned for you! Treat your staff to a wonderful time at the Chamber&rsquo\;s Annual Christmas Luncheon. Everyone&rsquo\;s welcome!</span></span><br />\n<br />\n<span style="font-family:arial\,sans-serif\;"><span style="font-size:10pt\;">Our festive year-end event will be held at the Pitt Meadows Golf Club and features a delicious season-inspired lunch.<br />\n<br />\nSandra Taylor and Jennifer Howard will take you on an&nbsp\;enchanting journey with the&nbsp\;angelic sound of Harps playing while you enjoy this festive event.</span></span></span></div>\n<br />\n<span style="color:#000000\;"><span style="font-family:arial\,sans-serif\;"><span style="font-size:10pt\;">Guests at this event will have many opportunities to </span></span></span>\n\n<ul>\n	<li style="margin-bottom:12.0pt\;"><span style="color:#000000\;"><span style="font-family:arial\,sans-serif\;"><span style="font-size:10pt\;">Win amazing prizes\, </span></span></span></li>\n	<li style="margin-bottom:12.0pt\;"><span style="color:#000000\;"><span style="font-family:arial\,sans-serif\;"><span style="font-size:10pt\;">Do some Christmas shopping while enjoying your lunch by bidding on silent auction items. </span></span></span></li>\n	<li style="margin-bottom:12.0pt\;"><span style="color:#000000\;"><span style="font-family:arial\,sans-serif\;"><span style="font-size:10pt\;">Network with friends\, meet new Chamber members\, business owners and key stakeholders.&nbsp\;</span></span></span></li>\n</ul>\n<span style="color:#000000\;"> <span style="font-family:arial\,sans-serif\;"><span style="font-size:10pt\;">Don&rsquo\;t forget to visit with our favourite jolly ol&rsquo\;soul\, SANTA CLAUS!!! </span></span></span><br />\n<br />\n&nbsp\; &nbsp\; &nbsp\; &nbsp\; &nbsp\; &nbsp\; &nbsp\; &nbsp\; &nbsp\; &nbsp\; &nbsp\; &nbsp\; &nbsp\;<br />\n<span style="font-size:16px\;"><span style="color:#FF0000\;"><strong><span style="font-family:arial\,sans-serif\;">SHOWCASE YOUR BUSINESS!!!</span></strong></span><span style="color:#000000\;"><strong><span style="font-family:arial\,sans-serif\;"> </span></strong></span></span>\n\n<div style="text-align: justify\;"><span style="font-size:16px\;"><span style="color:#000000\;"><strong><span style="font-family:arial\,sans-serif\;">Promote your business by donating products or services for other members to enjoy!</span><br />\n<br />\n<span style="font-family:arial\,sans-serif\;">We are currently seeking donations for our Silent Auction &amp\; Balloon Burst Game! </span></strong></span></span></div>\n\n<div><strong><span style="font-family:arial\,sans-serif\;"><span style="font-size:10pt\;"><span style="color:#000000\;">Please&nbsp\;</span><span style="color:#000000\;">contact Tami at&nbsp\;</span><span style="color:#0000CD\;">tami@ridgemeadowschamber.com</span><span style="color:#000000\;"> for more info.</span></span></span></strong></div>\n
LOCATION:Pitt Meadows Golf Club 13615 Harris Road\, Pitt Meadows\, BC V3Y 2R8
UID:e.1210.1691
SEQUENCE:3
DTSTAMP:20260421T150939Z
URL:https://business.ridgemeadowschamber.com/events/details/2016-annual-christmas-luncheon-1691
END:VEVENT

END:VCALENDAR
