BEGIN:VCALENDAR
VERSION:2.0
PRODID:-//ChamberMaster//Event Calendar 2.0//EN
METHOD:PUBLISH
X-PUBLISHED-TTL:P3D
REFRESH-INTERVAL:P3D
CALSCALE:GREGORIAN
BEGIN:VEVENT
DTSTART:20160806T003000Z
DTEND:20160806T050000Z
X-MICROSOFT-CDO-ALLDAYEVENT:FALSE
SUMMARY:2016 2nd Annual Tailgate Party
DESCRIPTION:Tailgate Party 2016\n\nJoin us for the second annual Tailgate Party! This is the EVENT of the summer. Join us for an awesome community party with live entertainment! Plus you get to know some of the amazing local Chamber member businesses and the services they offer.\n\nYour ticket includes: \n\n\n\n- Burger or Hot Dog \n\n- Beer\n\n- Live Entertainment  \n\n- Games and more!\n\nTreat your staff to an awesome summer wrap-up event! \n\nContact Events & Membership for vendor booth details\, major sponsorship opportunities and in-kind partner opportunities. events@ridgemeadowschamber.com
X-ALT-DESC;FMTTYPE=text/html:<p>Tailgate Party 2016</p>\n\n<p>Join us for the second annual Tailgate Party!&nbsp\;This is the EVENT of the summer. Join us for an&nbsp\;awesome community&nbsp\;party with live entertainment! Plus you get to know some of the amazing local Chamber member businesses and the services they offer.</p>\n\n<p>Your ticket includes:&nbsp\;<br />\n<br />\n- Burger or Hot Dog&nbsp\;<br />\n- Beer<br />\n- Live Entertainment &nbsp\;<br />\n- Games and more!</p>\n\n<p>Treat your staff to an awesome summer wrap-up event!&nbsp\;</p>\n\n<p>Contact Events &amp\; Membership for vendor booth details\, major sponsorship opportunities and in-kind partner opportunities. events@ridgemeadowschamber.com&nbsp\;<br />\n<br />\n<br />\n&nbsp\;</p>\n
LOCATION:Chances Maple Ridge Parking Lot
UID:e.1210.1418
SEQUENCE:3
DTSTAMP:20260421T223900Z
URL:https://business.ridgemeadowschamber.com/events/details/2016-2nd-annual-tailgate-party-08-05-2016-1418
END:VEVENT

END:VCALENDAR
