BEGIN:VCALENDAR
VERSION:2.0
PRODID:-//ChamberMaster//Event Calendar 2.0//EN
METHOD:PUBLISH
X-PUBLISHED-TTL:P3D
REFRESH-INTERVAL:P3D
CALSCALE:GREGORIAN
BEGIN:VEVENT
DTSTART:20150918T000000Z
DTEND:20150918T020000Z
X-MICROSOFT-CDO-ALLDAYEVENT:FALSE
SUMMARY:2015 Sunset Learning | Constant Contact
DESCRIPTION:Professional Development Series\n\nSunset Learning is an evening division of our popular Lunch N Learn's which is simply hosted after regular business hours. \n\n\n\n5:00pm Registration\n\n5:30pm Session Start\n\n7:00pm Session End\n\n\n\nIn less than a few hours\, you'll understand the basics of creating and delivering email newsletter campaigns that get measurable results. We will take you step-by-step through the process of creating and sending an email newsletter\, uploading your contacts\, and understanding your reports.\n\n\n\nYou'll learn how to:\n\n\n	Customize an email template with your logo and colors\n	Insert content that engages your audience like videos\, links and social media\n	Upload your contact list\, including additional contact details\n	Send an email and view your results\, like opens and clicks\n\n\nYou'll leave the session with the confidence and skills to create and send your first marketing campaign. And\, if you have any questions along the way\, you'll have plenty of opportunities to get answers from our knowledgeable host.
X-ALT-DESC;FMTTYPE=text/html:<p style="box-sizing: border-box\; margin: 0px 0px 15px\; font-family: 'Whitney SSm A'\, 'Whitney SSm B'\, Helvetica\, Arial\, sans-serif\; font-size: 16px\; color: rgb(96\, 109\, 120)\; line-height: 26px\;"><span style="font-size:12px\;"><span style="font-family:arial\;"><span style="color:#008080\;"><strong><span style="font-size:24px\;">Professional Development Series</span></strong></span><br />\n<span style="color:#000000\;">Sunset Learning is an evening division of our popular Lunch N Learn&#39\;s which is&nbsp\;simply hosted after regular business hours.&nbsp\;<br />\n<br />\n5:00pm&nbsp\;Registration<br />\n5:30pm&nbsp\;Session Start<br />\n7:00pm Session End<br />\n<br />\nIn less than a few hours\, you&rsquo\;ll understand the basics of creating and delivering email newsletter campaigns that get measurable results. We will take you step-by-step through the process of creating and sending an email newsletter\, uploading your contacts\, and understanding your reports.<br style="box-sizing: border-box\;" />\n<br />\nYou&rsquo\;ll learn how to:</span></span></span></p>\n\n<ul style="box-sizing: border-box\; font-family: 'Whitney SSm A'\, 'Whitney SSm B'\, Helvetica\, Arial\, sans-serif\; font-size: 16px\; line-height: 26px\; margin-bottom: 26px\; padding-right: 0px\; padding-left: 0px\; margin-top: 13px\; margin-left: 15px\; color: rgb(96\, 109\, 120)\;">\n	<li style="box-sizing: border-box\; margin-bottom: 6px\;"><span style="font-family:arial\;"><span style="color:#000000\;"><span style="font-size:12px\;">Customize an email template with your logo and colors</span></span></span></li>\n	<li style="box-sizing: border-box\; margin-bottom: 6px\;"><span style="font-family:arial\;"><span style="color:#000000\;"><span style="font-size:12px\;">Insert content that engages your audience like videos\, links and social media</span></span></span></li>\n	<li style="box-sizing: border-box\; margin-bottom: 6px\;"><span style="font-family:arial\;"><span style="color:#000000\;"><span style="font-size:12px\;">Upload your contact list\, including additional contact details</span></span></span></li>\n	<li style="box-sizing: border-box\; margin-bottom: 6px\;"><span style="font-family:arial\;"><span style="color:#000000\;"><span style="font-size:12px\;">Send an email and view your results\, like opens and clicks</span></span></span></li>\n</ul>\n\n<p style="box-sizing: border-box\; margin: 0px 0px 15px\; font-family: 'Whitney SSm A'\, 'Whitney SSm B'\, Helvetica\, Arial\, sans-serif\; font-size: 16px\; color: rgb(96\, 109\, 120)\; line-height: 26px\;"><span style="font-family:arial\;"><span style="color:#000000\;"><span style="font-size:12px\;">You&rsquo\;ll leave the session with the confidence and skills to create and send your first marketing campaign. And\, if you have any questions along the way\, you&rsquo\;ll have plenty of opportunities to get answers from our knowledgeable host.&nbsp\;</span></span></span></p>\n
LOCATION:Sprott Shaw College 20395 Lougheed Highway Maple Ridge
UID:e.1210.1168
SEQUENCE:3
DTSTAMP:20260422T120812Z
URL:https://business.ridgemeadowschamber.com/events/details/2015-sunset-learning-constant-contact-09-17-2015-1168
END:VEVENT

END:VCALENDAR
