BEGIN:VCALENDAR
VERSION:2.0
PRODID:-//ChamberMaster//Event Calendar 2.0//EN
METHOD:PUBLISH
X-PUBLISHED-TTL:P3D
REFRESH-INTERVAL:P3D
CALSCALE:GREGORIAN
BEGIN:VEVENT
DTSTART:20151022T183000Z
DTEND:20151022T200000Z
X-MICROSOFT-CDO-ALLDAYEVENT:FALSE
SUMMARY:2015 Small Business Week | Business and Financial Coaching
DESCRIPTION:BDC's Accelerate Success! Business & Financial Coaching is designed for entrepreneurs who would like to review their vision\, goals\, challenges and opportunities with experienced business coaches and other like-minded entrepreneurs.\n\n\n\nWhile understanding how coaching works\, you will also come up with a brief action plan on your business priorities and clearly identify next steps for reaching your company goals.\n\n\n\nOur Business Coaching & Financial Coaching delivers immediate value to your business and includes tangible takeaways\, brief self-assessments\,  and an interactive lunch & learn that is facilitated by our expert coaches.\n\n \n\nBDC looks forward to helping accelerate your business performance.
X-ALT-DESC;FMTTYPE=text/html:<p class="MsoNoSpacing"><span style="font-family:arial\,sans-serif\;"><span style="font-size:11pt\;">BDC&#39\;s Accelerate Success! Business &amp\; Financial Coaching is designed for entrepreneurs who would like to review their vision\, goals\, challenges and opportunities with experienced business coaches and other like-minded entrepreneurs.<br />\n<br />\nWhile understanding how coaching works\, you will also come up with a brief action plan on your business priorities and clearly identify next steps for reaching your company goals.<br />\n<br />\nOur Business Coaching &amp\; Financial Coaching delivers immediate value to your business and includes tangible takeaways\, brief self-assessments\,&nbsp\; and an interactive lunch &amp\; learn that is facilitated by our expert coaches.</span></span><br />\n&nbsp\;<br />\n<span style="font-family:arial\,sans-serif\;"><span style="font-size:11pt\;">BDC looks forward to helping accelerate your business performance.</span></span><br />\n<span style="font-size:12.0pt\;font-family:&quot\;Century Gothic&quot\;\,&quot\;sans-serif&quot\;\;\ncolor:#555555"><o:p></o:p></span></p>\n
LOCATION:Chameleon Cafe 11965 224 Street\, Maple Ridge\, BC
UID:e.1210.1197
SEQUENCE:3
DTSTAMP:20260422T120923Z
URL:https://business.ridgemeadowschamber.com/events/details/2015-small-business-week-business-and-financial-coaching-10-22-2015-1197
END:VEVENT

END:VCALENDAR
