BEGIN:VCALENDAR
VERSION:2.0
PRODID:-//ChamberMaster//Event Calendar 2.0//EN
METHOD:PUBLISH
X-PUBLISHED-TTL:P3D
REFRESH-INTERVAL:P3D
CALSCALE:GREGORIAN
BEGIN:VEVENT
DTSTART:20160323T140000Z
DTEND:20160323T160000Z
X-MICROSOFT-CDO-ALLDAYEVENT:FALSE
SUMMARY:2015 Mugs & Mornings | The Village Space
DESCRIPTION:Join us for a fast-paced early morning networking session. Structured like a timed speed-dating event\, you'll have multiple chances to connect and develop relationships. \n\n\n\nBring business cards! \n\n\n\nCaffeine will be provided\, along with breakfast.\n\n\n\nThis event is perfect for those wanting to: \n\n\n\n- make new connections \n\n- practice your self-introduction\n\n- take part in structured networking\n\n- build your community database \n\n- provide and receive business referrals\n\n- strengthen your presence within the Chamber network\n\n- eat a tasty breakfast \n\n \n\n**Please let us know 48-hours in advance if you wish to cancel your registration. Fees will apply after this time.
X-ALT-DESC;FMTTYPE=text/html:<p style="line-height: 18.9091px\;"><span style="color: rgb(20\, 24\, 35)\; font-family: helvetica\, arial\, 'lucida grande'\, sans-serif\; font-size: 14px\; line-height: 18.76px\;">Join us for a fast-paced early morning networking session. Structured like a timed speed-dating event\, you&#39\;ll have multiple chances to connect and develop relationships.&nbsp\;</span><br style="color: rgb(20\, 24\, 35)\; font-family: helvetica\, arial\, 'lucida grande'\, sans-serif\; font-size: 14px\; line-height: 18.76px\;" />\n<br style="color: rgb(20\, 24\, 35)\; font-family: helvetica\, arial\, 'lucida grande'\, sans-serif\; font-size: 14px\; line-height: 18.76px\;" />\n<span style="color: rgb(20\, 24\, 35)\; font-family: helvetica\, arial\, 'lucida grande'\, sans-serif\; font-size: 14px\; line-height: 18.76px\;">Bring business cards!&nbsp\;</span><br style="color: rgb(20\, 24\, 35)\; font-family: helvetica\, arial\, 'lucida grande'\, sans-serif\; font-size: 14px\; line-height: 18.76px\;" />\n<br style="color: rgb(20\, 24\, 35)\; font-family: helvetica\, arial\, 'lucida grande'\, sans-serif\; font-size: 14px\; line-height: 18.76px\;" />\n<span style="color: rgb(20\, 24\, 35)\; font-family: helvetica\, arial\, 'lucida grande'\, sans-serif\; font-size: 14px\; line-height: 18.76px\;">Caffeine will be provided\, along with breakfast.<br />\n<br />\nThis event is perfect for those wanting to:&nbsp\;<br />\n<br />\n- make new connections&nbsp\;<br />\n- practice your self-introduction<br />\n- take part in structured networking<br />\n- build your community database&nbsp\;<br />\n- provide and receive business referrals<br />\n- strengthen your presence within the Chamber network<br />\n- eat a tasty breakfast&nbsp\;</span><br />\n&nbsp\;</p>\n\n<p style="line-height: 18.9091px\;"><span style="color: rgb(20\, 24\, 35)\; font-family: helvetica\, arial\, 'lucida grande'\, sans-serif\; font-size: 14px\; line-height: 18.76px\;">**Please let us know 48-hours in advance if you wish to cancel your registration. Fees will apply after this time.&nbsp\;</span></p>\n
LOCATION:The Village Space 22718 Dewdney Tr. Rd. Maple Ridge\, BC
UID:e.1210.1260
SEQUENCE:3
DTSTAMP:20260422T052341Z
URL:https://business.ridgemeadowschamber.com/events/details/2015-mugs-mornings-the-village-space-03-23-2016-1260
END:VEVENT

END:VCALENDAR
