BEGIN:VCALENDAR
VERSION:2.0
PRODID:-//ChamberMaster//Event Calendar 2.0//EN
METHOD:PUBLISH
X-PUBLISHED-TTL:P3D
REFRESH-INTERVAL:P3D
CALSCALE:GREGORIAN
BEGIN:VEVENT
DTSTART:20150429T141500Z
DTEND:20150429T160000Z
X-MICROSOFT-CDO-ALLDAYEVENT:FALSE
SUMMARY:2015 Mugs & Mornings | Quality Inn Maple Ridge
DESCRIPTION:Join us for the newest networking event in town! \n\n\n\nYou will meet early risers like your self\, ready to connect and build business relationships.\n\n\n\nCome ready to network ~ remember your business cards.\n\n\n\nEnjoy a delicious breakfast catered by locally owned and operated Delizie Italiane Bakery & Bistro.\n\n\n\nWhat are you waiting for? Register now!\n\n\n\nRegistration: 7:15am\n\nBreakfast/Networking: 7:30am
X-ALT-DESC;FMTTYPE=text/html:<br />\nJoin us for the newest networking event in town!&nbsp\;<br />\n<br />\nYou will meet early risers like your self\, ready to connect and build business relationships.<br />\n<br />\nCome ready to network ~ remember your business cards.<br />\n<br />\nEnjoy <span style="line-height: 23.1111106872559px\;">a delicious breakfast catered by locally owned and operated&nbsp\;</span>Delizie<span style="line-height: 23.1111106872559px\;">&nbsp\;Italiane Bakery &amp\; Bistro.</span><br />\n<br />\nWhat are you waiting for? Register now!<br />\n<br />\n<em><span style="line-height: 23.1111106872559px\;">Registration:</span><span style="line-height: 23.1111106872559px\;">&nbsp\;7:</span>15am<br style="line-height: 23.1111106872559px\;" />\n<span style="line-height: 23.1111106872559px\;">Breakfast/Networking: 7:</span>30am</em>
LOCATION:Quality Inn\, Maple Ridge 21735 Lougheed Highway\, Maple Ridge
UID:e.1210.849
SEQUENCE:3
DTSTAMP:20260422T205158Z
URL:https://business.ridgemeadowschamber.com/events/details/2015-mugs-mornings-quality-inn-maple-ridge-04-29-2015-849
END:VEVENT

END:VCALENDAR
