BEGIN:VCALENDAR
VERSION:2.0
PRODID:-//ChamberMaster//Event Calendar 2.0//EN
METHOD:PUBLISH
X-PUBLISHED-TTL:P3D
REFRESH-INTERVAL:P3D
CALSCALE:GREGORIAN
BEGIN:VEVENT
DTSTART:20150617T000000Z
DTEND:20150617T030000Z
X-MICROSOFT-CDO-ALLDAYEVENT:FALSE
SUMMARY:2015 Mix It Up | Hard Rock Casino
DESCRIPTION:Start your summer off right! Join us as we mix\, mingle and connect with local chamber members. This NEW joint chamber mixer will be held in conjunction with the Burnaby Board of Trade and the Tri-Cities Chamber of Commerce.\n\n\n\nProudly hosted by the Hard Rock Casino Vancouver\, this exclusive networking event will bring together fellow chamber members and business professionals from across the region. Celebrate business with an evening featuring great networking\, delicious food and drinks\, and fun door prizes.
X-ALT-DESC;FMTTYPE=text/html:Start your summer off right! Join us as we mix\, mingle and connect with local chamber members. This NEW joint chamber mixer will be held in conjunction with the Burnaby Board of Trade and the Tri-Cities Chamber of Commerce.<br />\n<br />\nProudly hosted by the Hard Rock Casino Vancouver\, this exclusive networking event will bring together fellow chamber members and business professionals from across the region. Celebrate business with an evening featuring great networking\, delicious food and drinks\, and fun door prizes.
LOCATION:The Hard Rock Casino Vancouver - Theatre 2080 United Boulevard\, Coquitlam
UID:e.1210.941
SEQUENCE:3
DTSTAMP:20260422T174140Z
URL:https://business.ridgemeadowschamber.com/events/details/2015-mix-it-up-hard-rock-casino-06-16-2015-941
END:VEVENT

END:VCALENDAR
