BEGIN:VCALENDAR
VERSION:2.0
PRODID:-//ChamberMaster//Event Calendar 2.0//EN
METHOD:PUBLISH
X-PUBLISHED-TTL:P3D
REFRESH-INTERVAL:P3D
CALSCALE:GREGORIAN
BEGIN:VEVENT
DTSTART:20150312T183000Z
DTEND:20150312T194500Z
X-MICROSOFT-CDO-ALLDAYEVENT:FALSE
SUMMARY:2015 Lunch N Learn | Jonathan Michael
DESCRIPTION:LEVERAGING YOUR STRENGTHS TO SUCCEED AS A SMALL BUSINESS LEADER\n\n\n\nIn this Lunch and Learn Jonathan Michael will be presenting vital information that educates Small Business Leaders to thrive by leveraging their strengths. \n\nScientific research and real world applications will be the foundation for this presentation. At the end of the presentation you can expect to leave with clarity on what your strengths are\, how to leverage them and also how to manage those things that are your challenges as a Small Business owner and leader.\n\n\n\nJonathan comes at it as a small business owner\, owner and entrepreneur himself who teaches adults in business in his classes at Trinity Western University how to leverage their strengths. You will also be able to get a free version of the worlds most trusted strengths based tool (its been around for 60 years)\n\n \n\nYou can go to http://www.thejonathanfactor.com/the-birkman-method/free-gift/ to do the assessment\, you will then receive a free one page strengths based report which we will use at the Lunch and learn.\n\n\n\nMake sure you do the assessment before attending and see where you score highest\n\nhttp://www.thejonathanfactor.com/the-birkman-method/free-gift/\n\n\n\n\n\nFor 25 years\, Jonathan Michael\, has been a teacher\, exemplar\, activator and mentor of world class leaders\, a catalyst for change in organizations and an experienced and certified Job and Career Development Coach. Jonathan specializes in organizations and individuals in transition. He has been mentored in Career Development by Richard Knowdell\, renowned career development author\, and the  founder of the Career Development Network.\n\n \n\nHe has been trained in Coaching\, leadership and effectiveness philosophy and practices\, by Blue Point Leadership (formerly the Tom Peters Company)\, the Coaches Training Institute and Franklin Covey. He is a Senior Birkman Certified Consultant (Level III)\, which is the highest level of training in the Birkman Method. He is respected member and consultant of Birkman International in Canada and a mentor to other Birkman trained and certified coaches. His work is mentioned several times as a Birkman Consultant because of his transformational results\,  in the book "The Birkman Method"  by Sharon Birkman and Stephanie Capparell\, author of the best selling "Shackleton's Way". "The Birkman Method" was among Amazon's top ten business books for May 2013\n\n \n\nJonathan graduated with an M.A. from Trinity Western University\,  winning the prestigious Governor General's Gold Medal\, which is the highest academic achievement in Canadian education.   Other people of note who have won this award include Pierre Trudeau\, Tommy Douglas\, Kim Campbell\, Robert Bourassa\, Robert Stanfield and Gabrielle Roy. His equivalent of an Honors B.A\, explored Political Science\, Sociology and History\, along with German and English Literature at Osmania University\, which was founded by the last Nizam of Hyderabad\, Mir Osman Ali Khan. He was voted "Ambassador of Class 42  in the renowned YMCA Entrepreneur program that has birthed many leaders and entrepreneurs in Vancouver including 1-800-GOT-JUNK.\n\n \n\nHundreds of young people and those seeking to have clarity around career choices and personal and leadership development have consulted Jonathan\, and his clients have included a Member of Parliament\, University Administrators\, HR Directors\, Small business owners and the President of Canada's largest Student Society.
X-ALT-DESC;FMTTYPE=text/html:<p><span style="font-size:16px\;"><strong>LEVERAGING YOUR STRENGTHS TO SUCCEED AS A SMALL BUSINESS LEADER</strong></span><br />\n<br />\n<span style="font-size:14px\;">In this<strong> Lunch and Learn</strong> Jonathan Michael will be presenting vital information that educates Small Business Leaders to thrive by leveraging their strengths. </span></p>\n\n<p><span style="font-size:14px\;">Scientific research and real world applications will be the foundation for this presentation. At the end of the presentation you can expect to leave with clarity on what your strengths are\, how to leverage them and also how to manage those things that are your challenges as a Small Business owner and leader.<br />\n<br />\nJonathan comes at it as a small business owner\, owner and entrepreneur himself who teaches adults in business in his classes at Trinity Western University how to leverage their strengths. You will also be able to get a free version of the worlds most trusted strengths based tool (its been around for 60 years)<br />\n&nbsp\;<br />\nYou can go to </span>http://www.thejonathanfactor.com/the-birkman-method/free-gift/&nbsp\;<span style="font-size:14px\;">to do the assessment\, you will then receive a free one page strengths based report which we will use at the Lunch and learn.<br />\n<br />\n<span style="font-size:16px\;"><strong>Make sure you do the assessment&nbsp\;before attending and see where you score highest</strong></span></span><br />\nhttp://www.thejonathanfactor.com/the-birkman-method/free-gift/<br />\n<br />\n<br />\n<span style="font-size:12px\;">For 25 years\, Jonathan Michael\, has been a teacher\, exemplar\, activator and mentor of world class leaders\, a catalyst for change in organizations and an experienced and certified Job and Career Development Coach. Jonathan specializes in organizations and individuals in transition. He has been mentored in Career Development by Richard Knowdell\, renowned career development author\, and the &nbsp\;founder of the Career Development Network.<br />\n&nbsp\;<br />\nHe has been trained in Coaching\, leadership and effectiveness philosophy and practices\, by Blue Point Leadership (formerly the Tom Peters Company)\, the Coaches Training Institute and Franklin Covey. He is a Senior Birkman Certified Consultant (Level III)\, which is the highest level of training in the Birkman Method. He is respected member and consultant of Birkman International in Canada and a mentor to other Birkman trained and certified coaches. His work is mentioned several times as a Birkman Consultant because of his transformational results\, &nbsp\;in the book &ldquo\;The Birkman Method&rdquo\; &nbsp\;by Sharon Birkman and Stephanie Capparell\, author of the best selling &ldquo\;Shackleton&rsquo\;s Way&rdquo\;. &ldquo\;The Birkman Method&rdquo\; was among Amazon&rsquo\;s top ten business books for May 2013<br />\n&nbsp\;<br />\nJonathan graduated with an M.A. from Trinity Western University\, &nbsp\;winning the prestigious Governor General&rsquo\;s Gold Medal\, which is the highest academic achievement in Canadian education. &nbsp\; Other people of note who have won this award include Pierre Trudeau\, Tommy Douglas\, Kim Campbell\, Robert Bourassa\, Robert Stanfield and Gabrielle Roy. His equivalent of an Honors B.A\, explored Political Science\, Sociology and History\, along with German and English Literature at Osmania University\, which was founded by the last Nizam of Hyderabad\, Mir Osman Ali Khan. He was voted &ldquo\;Ambassador of Class 42&Prime\; in the renowned YMCA Entrepreneur program that has birthed many leaders and entrepreneurs in Vancouver including 1-800-GOT-JUNK.<br />\n&nbsp\;<br />\nHundreds of young people and those seeking to have clarity around career choices and personal and leadership development have consulted Jonathan\, and his clients have included a Member of Parliament\, University Administrators\, HR Directors\, Small business owners and the President of Canada&rsquo\;s largest Student Society.<br />\n&nbsp\;<br />\n&nbsp\;</span></p>\n
LOCATION:North Fraser Business Innovation Accelerator Office 300- 22470 Dewdney Trunk Road Maple Ridge
UID:e.1210.837
SEQUENCE:3
DTSTAMP:20260424T083123Z
URL:https://business.ridgemeadowschamber.com/events/details/2015-lunch-n-learn-jonathan-michael-03-12-2015-837
END:VEVENT

END:VCALENDAR
