BEGIN:VCALENDAR
VERSION:2.0
PRODID:-//ChamberMaster//Event Calendar 2.0//EN
METHOD:PUBLISH
X-PUBLISHED-TTL:P3D
REFRESH-INTERVAL:P3D
CALSCALE:GREGORIAN
BEGIN:VEVENT
DTSTART:20150604T183000Z
DTEND:20150604T200000Z
X-MICROSOFT-CDO-ALLDAYEVENT:FALSE
SUMMARY:2015 Lunch N Learn | Angie McLeod
DESCRIPTION:Join us for an informative professional development series held by Angie McLeod of HIP Strategic. \n\nAngie will speak about guerrilla marketing and tips for low to no-cost business marketing. Her session will include teaching\, brain storming and hands-on work.
X-ALT-DESC;FMTTYPE=text/html:<p>Join us for an informative professional development series&nbsp\;held by Angie McLeod of HIP Strategic.&nbsp\;</p>\n\n<p>Angie will speak about guerrilla marketing and tips for low to no-cost business marketing. Her session will include teaching\, brain storming and hands-on work.&nbsp\;</p>\n
LOCATION:Fraser Valley Business Innovation Accelerator Office Suite 300 - 22470 Dewdney Trunk Road Maple Ridge BC
UID:e.1210.938
SEQUENCE:3
DTSTAMP:20260422T175808Z
URL:https://business.ridgemeadowschamber.com/events/details/2015-lunch-n-learn-angie-mcleod-06-04-2015-938
END:VEVENT

END:VCALENDAR
