BEGIN:VCALENDAR
VERSION:2.0
PRODID:-//ChamberMaster//Event Calendar 2.0//EN
METHOD:PUBLISH
X-PUBLISHED-TTL:P3D
REFRESH-INTERVAL:P3D
CALSCALE:GREGORIAN
BEGIN:VEVENT
DTSTART:20160309T193000Z
DTEND:20160309T214500Z
X-MICROSOFT-CDO-ALLDAYEVENT:FALSE
SUMMARY:2015 General Meeting | Maximize your Networking Investment
DESCRIPTION:WEDNESDAY MARCH 9TH\, 2016\n\n\n\nJoin us for a General Meeting and Professional Development with Angie McLeod from HIP Strategic. \n\n\n\nStrong networkers invest their time in building long-term relationships\, not on immediate sales.   Good networkers ask questions\, listen attentively\, share information freely\, focus on the other person AND have system for following up.  Join us to learn a simple three-step process for connecting\, engaging and following up with contacts that will build long-term relationships and increase opportunities for doing business with those you meet. \n\nIncluded with your ticket costs is a delicious buffet luncheon provided by The Well. \n\nUse this event opportunity to learn new networking skills\, practice networking with others and create new contacts. \n\n\n\nGeneral Meeting to follow.
X-ALT-DESC;FMTTYPE=text/html:<p><span style="font-size:12px\;"><span style="font-family:arial\;"><span style="font-size:22px\;"><strong>WEDNESDAY MARCH 9TH\, 2016</strong></span><br />\n<br />\nJoin us for a General Meeting and Professional Development&nbsp\;with Angie McLeod from HIP Strategic.&nbsp\;<br />\n<br />\n<span style="color: rgb(0\, 0\, 0)\; line-height: normal\;">Strong networkers invest their time in building long-term relationships\, not on immediate sales.&nbsp\;&nbsp\; Good networkers ask questions\, listen attentively\, share information freely\, focus on the other person AND have system for following up.&nbsp\; Join us to learn a simple three-step process for connecting\, engaging and following up with contacts that will build long-term relationships and increase opportunities for doing business with those you meet.&nbsp\;</span></span></span></p>\n\n<p><span style="font-size:12px\;"><span style="font-family:arial\;">Included with your ticket costs is a delicious buffet luncheon provided by The Well.&nbsp\;</span></span></p>\n\n<p><span style="font-size:12px\;"><span style="font-family:arial\;">Use this event opportunity to learn new networking skills\, practice networking with others and create new contacts.&nbsp\;<br />\n<br />\nGeneral Meeting to follow.&nbsp\;</span></span></p>\n
LOCATION:The Well Public House in Chances Maple Ridge 22710 Lougheed Hwy Maple Ridge\, BC
UID:e.1210.1227
SEQUENCE:3
DTSTAMP:20260422T052444Z
URL:https://business.ridgemeadowschamber.com/events/details/2015-general-meeting-maximize-your-networking-investment-03-09-2016-1227
END:VEVENT

END:VCALENDAR
