BEGIN:VCALENDAR
VERSION:2.0
PRODID:-//ChamberMaster//Event Calendar 2.0//EN
METHOD:PUBLISH
X-PUBLISHED-TTL:P3D
REFRESH-INTERVAL:P3D
CALSCALE:GREGORIAN
BEGIN:VEVENT
DTSTART:20150415T220000Z
DTEND:20150416T020000Z
X-MICROSOFT-CDO-ALLDAYEVENT:FALSE
SUMMARY:2015 Business Showcase
DESCRIPTION:You are invited to attend the Fraser Valley's most inclusive networking event of the year!!\n\n\n\nPresented by the Fraser Valley Chambers of Commerce: Abbotsford\, Chilliwack\, Cloverdale\, Langley\, Maple Ridge-Pitt Meadows\, Mission\, Surrey and South Surrey-White Rock.\n\n \n\n\n	Meet hundreds of people from all over the Fraser Valley for the opportunity to expand your network\n	Visit over 60 exhibitor booths\n	Complimentary refreshments\n\n \n\nWho Should Exhibit?\n\n \n\n\n	Fraser Valley businesses small to large\n	Companies with business to business sales\n	Not for profit organizations\n	Home based businesses\n\n\nMembers of other Chambers\, please select "Not an Abbotsford Chamber Member" and enter your Chamber's name in the comments field.  When prompted\, register using the member rate.\n\n\n	Chamber Members: 6' x 8' Booths $199 + GST (Non-Members: $249 + GST)\n	Chamber Members: 6' x 10' Booths $249 + GST (Non-Members: $299 + GST)\n	Chamber Members: 2' x 6' Table Tops $149 + GST (Non-Members: $199 + GST)\n	You will have the option to:\n	\n		Add power for $40\n		Add an additional 2' x 6' skirted table for $30\n		Enter your booth selection (no charge)\n	\n	\n	Move-in for the show is from 12:00 pm to 2:30 pm on event day and move-out is from 7:00 pm to 9:00 pm on event day\n\n\n\n\nTo register go to Abbotsford Chamber's Website\n\n\n\n\n\n Abbotsford Chamber's Website has a list of available booths and a floor plan available to browse \nSponsorship Opportunities Available
X-ALT-DESC;FMTTYPE=text/html:<p style="margin: 0px\; padding: 0px\; border: 0px\; outline: 0px\; color: rgb(102\, 102\, 102)\; font-family: Arial\, Helvetica\, Geneva\, Swiss\, SunSans-Regular\; line-height: 20px\;"><span style="font-size:18px\;"><strong><span style="color:#0000FF\;">You are invited to attend the Fraser Valley&#39\;s most inclusive networking event of the year!!</span></strong></span><br />\n<br />\n<strong><em><span style="font-size:16px\;">Presented by the Fraser Valley Chambers of Commerce: Abbotsford\, Chilliwack\, Cloverdale\, Langley\, Maple Ridge-Pitt Meadows\, Mission\, Surrey and South Surrey-White Rock.</span></em></strong><br />\n&nbsp\;</p>\n\n<ul style="margin: 0px\; padding-right: 0px\; padding-left: 30px\; border: 0px\; outline: 0px\; font-size: 12px\; list-style-position: outside\; list-style-image: initial\; color: rgb(102\, 102\, 102)\; font-family: Arial\, Helvetica\, sans-serif\, 'MS Sans Serif'\; line-height: normal\;">\n	<li style="margin: 0px\; padding: 0px\; border: 0px\; outline: 0px\;"><span style="font-size:14px\;">Meet hundreds of people from all over the Fraser Valley for the opportunity to expand your network</span></li>\n	<li style="margin: 0px\; padding: 0px\; border: 0px\; outline: 0px\;"><span style="font-size:14px\;">Visit over 60 exhibitor booths</span></li>\n	<li style="margin: 0px\; padding: 0px\; border: 0px\; outline: 0px\;"><span style="font-size:14px\;">Complimentary refreshments</span></li>\n</ul>\n<span style="color:#FF0000\;"><span style="font-size:14px\;"><span style="font-family: Arial\, Helvetica\, sans-serif\, 'MS Sans Serif'\; line-height: normal\;">&nbsp\;</span></span></span>\n\n<p style="margin: 0px\; padding: 0px\; border: 0px\; outline: 0px\; color: rgb(102\, 102\, 102)\; font-family: Arial\, Helvetica\, Geneva\, Swiss\, SunSans-Regular\; line-height: 20px\;"><span style="color:#FF0000\;"><span style="font-size:14px\;"><strong style="margin: 0px\; padding: 0px\; border: 0px\; outline: 0px\;"><span style="margin: 0px\; padding: 0px\; border: 0px\; outline: 0px\;">Who Should Exhibit?</span></strong></span></span><br />\n&nbsp\;</p>\n\n<ul style="margin: 0px\; padding-right: 0px\; padding-left: 30px\; border: 0px\; outline: 0px\; font-size: 12px\; list-style-position: outside\; list-style-image: initial\; color: rgb(102\, 102\, 102)\; font-family: Arial\, Helvetica\, sans-serif\, 'MS Sans Serif'\; line-height: normal\;">\n	<li style="margin: 0px\; padding: 0px\; border: 0px\; outline: 0px\;"><span style="font-size:14px\;">Fraser Valley businesses small to large</span></li>\n	<li style="margin: 0px\; padding: 0px\; border: 0px\; outline: 0px\;"><span style="font-size:14px\;">Companies with business to business sales</span></li>\n	<li style="margin: 0px\; padding: 0px\; border: 0px\; outline: 0px\;"><span style="font-size:14px\;">Not for profit organizations</span></li>\n	<li style="margin: 0px\; padding: 0px\; border: 0px\; outline: 0px\;"><span style="font-size:14px\;">Home based businesses</span></li>\n</ul>\n\n<p style="margin: 0px\; padding: 0px\; border: 0px\; outline: 0px\; color: rgb(102\, 102\, 102)\; font-family: Arial\, Helvetica\, Geneva\, Swiss\, SunSans-Regular\; line-height: 20px\;"><span style="font-size:14px\;">Members of other Chambers\, please select &quot\;Not an Abbotsford Chamber Member&quot\; and enter your Chamber&#39\;s name in the comments field.&nbsp\; When prompted\, register&nbsp\;using the member rate.</span></p>\n\n<ul style="padding-right: 0px\; padding-left: 30px\; margin: 0px\; border: 0px\; outline: 0px\; font-size: 12px\; list-style-position: outside\; list-style-image: initial\; color: rgb(102\, 102\, 102)\; font-family: Arial\, Helvetica\, sans-serif\, 'MS Sans Serif'\; line-height: normal\;">\n	<li style="margin: 0px\; padding: 0px\; border: 0px\; outline: 0px\;"><span style="font-size:14px\;"><em style="margin: 0px\; padding: 0px\; border: 0px\; outline: 0px\;">Chamber Members: 6&#39\; x 8&#39\; Booths $199 + GST (Non-Members: $249 + GST)</em></span></li>\n	<li style="margin: 0px\; padding: 0px\; border: 0px\; outline: 0px\;"><span style="font-size:14px\;"><em style="margin: 0px\; padding: 0px\; border: 0px\; outline: 0px\;">Chamber Members: 6&#39\; x 10&#39\; Booths $249 + GST&nbsp\;(Non-Members: $299 + GST)</em></span></li>\n	<li style="margin: 0px\; padding: 0px\; border: 0px\; outline: 0px\;"><span style="font-size:14px\;"><em style="margin: 0px\; padding: 0px\; border: 0px\; outline: 0px\;">Chamber Members: 2&#39\; x 6&#39\; Table Tops $149 + GST (Non-Members: $199 + GST)</em></span></li>\n	<li style="margin: 0px\; padding: 0px\; border: 0px\; outline: 0px\;"><span style="font-size:14px\;"><em style="margin: 0px\; padding: 0px\; border: 0px\; outline: 0px\;">You will have the option to:</em></span>\n	<ul style="padding-right: 0px\; padding-left: 30px\; margin: 0px\; border: 0px\; outline: 0px\; list-style: disc outside\;">\n		<li style="margin: 0px\; padding: 0px\; border: 0px\; outline: 0px\;"><span style="font-size:14px\;"><em style="margin: 0px\; padding: 0px\; border: 0px\; outline: 0px\;">Add power for $40</em></span></li>\n		<li style="margin: 0px\; padding: 0px\; border: 0px\; outline: 0px\;"><span style="font-size:14px\;"><em style="margin: 0px\; padding: 0px\; border: 0px\; outline: 0px\;">Add an additional 2&#39\; x 6&#39\; skirted table for $30</em></span></li>\n		<li style="margin: 0px\; padding: 0px\; border: 0px\; outline: 0px\;"><span style="font-size:14px\;"><em style="margin: 0px\; padding: 0px\; border: 0px\; outline: 0px\;">Enter your booth selection (no charge)</em></span></li>\n	</ul>\n	</li>\n	<li style="margin: 0px\; padding: 0px\; border: 0px\; outline: 0px\;"><span style="font-size:14px\;"><em style="margin: 0px\; padding: 0px\; border: 0px\; outline: 0px\;">Move-in&nbsp\;for the show is from 12:00 pm to 2:30 pm&nbsp\;on&nbsp\;event day and move-out is from 7:00 pm to 9:00 pm on event day</em></span></li>\n</ul>\n\n<p style="margin: 0px\; padding: 0px\; border: 0px\; outline: 0px\; font-family: Arial\, Helvetica\, Geneva\, Swiss\, SunSans-Regular\; line-height: 20px\;"><br />\n<a href="http://business.abbotsfordchamber.com/events/details/8th-annual-fraser-valley-chambers-of-commerce-business-showcase-882"><font color="#ff0000"><span style="font-size: 14px\;"><b>To register go to Abbotsford Chamber&#39\;s Website</b></span></font></a><br />\n<br />\n<br />\n<strong style="color: rgb(102\, 102\, 102)\; margin: 0px\; padding: 0px\; border: 0px\; outline: 0px\;">&nbsp\;Abbotsford Chamber&#39\;s Website has a list of available booths and a floor plan available to browse&nbsp\;</strong></p>\n<strong><span style="font-size:18px\;"><span style="color:#FF0000\;">Sponsorship Opportunities Available&nbsp\;</span></span></strong><br />\n&nbsp\;
LOCATION:Ramada Plaza & Conference Centre 36035 North Parallel Road\, Abbotsford
UID:e.1210.835
SEQUENCE:3
DTSTAMP:20260422T204513Z
URL:https://business.ridgemeadowschamber.com/events/details/2015-business-showcase-04-15-2015-835
END:VEVENT

END:VCALENDAR
