BEGIN:VCALENDAR
VERSION:2.0
PRODID:-//ChamberMaster//Event Calendar 2.0//EN
METHOD:PUBLISH
X-PUBLISHED-TTL:P3D
REFRESH-INTERVAL:P3D
CALSCALE:GREGORIAN
BEGIN:VEVENT
DTSTART:20150716T000000Z
DTEND:20150716T020000Z
X-MICROSOFT-CDO-ALLDAYEVENT:FALSE
SUMMARY:2015 BizNiz Mixer | Pitt Meadows Golf Club
DESCRIPTION:Join us at Pitt Meadows Golf Club for a vibrant after hours business social that provide excellence opportunities for members and prospective members to meet face-to-face. Explore\, create or simply renew relationships with like-minded business professional in your community\, while Pitt Meadows Golf Club showcases their fine establishment. \n\n \n\nEnjoy a fun evening with full of networking\, making connections and trying your luck at our Putting contest. Winner will be entered into the draw for a Grand Prize!
X-ALT-DESC;FMTTYPE=text/html:<div _mce_style="font-family: 'Century Gothic'\, 'ITC Avant Garde'\, Arial\, Helvetica\, sans-serif\; text-align: justify\;" align="justify" style="color: rgb(102\, 102\, 102)\; font-family: 'Century Gothic'\, 'ITC Avant Garde'\, Arial\, Helvetica\, sans-serif\; font-size: 16px\; line-height: normal\; text-align: justify\;"><span style="font-size:11px\;"><span style="font-family:verdana\;"><span _mce_style="font-size: 10pt\;">Join us at Pitt Meadows Golf Club for a vibrant after hours business social that provide excellence opportunities for members and prospective members to meet face-to-face. Explore\, create or simply renew relationships with&nbsp\;</span><span _mce_style="font-size: 13.3333330154419px\;">like-minded business professional</span><span _mce_style="font-size: 13.3333330154419px\;">&nbsp\;in your community\,&nbsp\;</span><span _mce_style="font-size: 10pt\;">while Pitt Meadows Golf Club showcases their fine establishment.&nbsp\;</span></span></span></div>\n\n<div _mce_style="font-family: 'Century Gothic'\, 'ITC Avant Garde'\, Arial\, Helvetica\, sans-serif\; text-align: justify\;" align="justify" style="color: rgb(102\, 102\, 102)\; font-family: 'Century Gothic'\, 'ITC Avant Garde'\, Arial\, Helvetica\, sans-serif\; font-size: 16px\; line-height: normal\; text-align: justify\;">&nbsp\;</div>\n\n<div _mce_style="font-family: 'Century Gothic'\, 'ITC Avant Garde'\, Arial\, Helvetica\, sans-serif\; text-align: justify\;" align="justify" style="color: rgb(102\, 102\, 102)\; font-family: 'Century Gothic'\, 'ITC Avant Garde'\, Arial\, Helvetica\, sans-serif\; font-size: 16px\; line-height: normal\; text-align: justify\;"><span style="font-size:11px\;"><span style="font-family:verdana\;"><span _mce_style="font-size: 10pt\;">Enjoy a fun evening with full of networking\, making connections and trying your luck at our Putting contest. Winner will be entered into the draw for a Grand Prize!</span></span></span></div>\n
LOCATION:Pitt Meadows Golf Course 13615 Harris Road\, Pitt Meadows
UID:e.1210.942
SEQUENCE:3
DTSTAMP:20260422T163312Z
URL:https://business.ridgemeadowschamber.com/events/details/2015-bizniz-mixer-pitt-meadows-golf-club-07-15-2015-942
END:VEVENT

END:VCALENDAR
