BEGIN:VCALENDAR
VERSION:2.0
PRODID:-//ChamberMaster//Event Calendar 2.0//EN
METHOD:PUBLISH
X-PUBLISHED-TTL:P3D
REFRESH-INTERVAL:P3D
CALSCALE:GREGORIAN
BEGIN:VEVENT
DTSTART:20150522T000000Z
DTEND:20150522T020000Z
X-MICROSOFT-CDO-ALLDAYEVENT:FALSE
SUMMARY:2015 BizNiz Mixer | Best Western Maple Ridge
DESCRIPTION:Join us at the Best Western in Maple Ridge for an evening of mixing\, mingling and making new connections. \n\nThe BizNiz Mixer is a great opportunity to meet other Chamber members and new non-members. Bring a friendly smile\, a stack of business cards and a firm handshake. Come have a drink and appetizer at this fun event!
X-ALT-DESC;FMTTYPE=text/html:<p>Join us at the Best Western in Maple Ridge for an evening of mixing\, mingling and making new connections.&nbsp\;</p>\n\n<p>The BizNiz Mixer is a great opportunity to meet other Chamber members and new non-members. Bring a friendly smile\, a stack of business cards and a firm handshake. Come have a drink and appetizer at this fun event!</p>\n
LOCATION:Best Western Maple Ridge 21650 Lougheed Hwy\, Maple Ridge\, BC V2X 2S1
UID:e.1210.859
SEQUENCE:3
DTSTAMP:20260422T192543Z
URL:https://business.ridgemeadowschamber.com/events/details/2015-bizniz-mixer-best-western-maple-ridge-05-21-2015-859
END:VEVENT

END:VCALENDAR
