BEGIN:VCALENDAR
VERSION:2.0
PRODID:-//ChamberMaster//Event Calendar 2.0//EN
METHOD:PUBLISH
X-PUBLISHED-TTL:P3D
REFRESH-INTERVAL:P3D
CALSCALE:GREGORIAN
BEGIN:VEVENT
DTSTART:20150618T233000Z
DTEND:20150619T013000Z
X-MICROSOFT-CDO-ALLDAYEVENT:FALSE
SUMMARY:2015 Base Camp Orientation | Maple Ridge Library
DESCRIPTION:Are you a new member and want to learn about the Chamber and how to leverage your membership?\n	Not a member? What to learn more about the Chamber before joining?\n	Are you an existing member and want to re-acquaint yourself with the Chamber and find out about the latest benefits and opportunities?\n	Do you want to just come out and welcome the new members and get to know other great local businesses?\n\nThen sign up now and join us for a great evening full of information\, meet the Chamber team and all the other new businesses!\n\n\n\nDid you know that if your business still doesn't have a website\, you are still visible to the public through the Chamber's online directory. Did you know you are able manage the way your organization is presented on the website? \n\n\n\nCome and learn more about accessing your member profile and utilizing it to promote your business!\n\n\n\nDON'T FORGET TO BRING AT LEAST 30 BUSINESS CARD for the networking portion
X-ALT-DESC;FMTTYPE=text/html:<ul>\n	<li><span style="font-family:arial\,sans-serif\;"><span style="font-size:10.0pt\;">Are you a new member and want to learn about the Chamber and how to leverage your membership?</span></span></li>\n	<li style="line-height:15.6pt\;"><span style="font-family:arial\,sans-serif\;"><span style="font-size:10.0pt\;">Not a member? What to learn more about the Chamber before joining?</span></span></li>\n	<li style="line-height:15.6pt\;"><span style="font-family:arial\,sans-serif\;"><span style="font-size:10.0pt\;">Are you an existing member and want to re-acquaint yourself with the Chamber and find out about the latest benefits and opportunities?</span></span></li>\n	<li style="line-height:15.6pt\;"><span style="font-family:arial\,sans-serif\;"><span style="font-size:10.0pt\;">Do you want to just come out and welcome the new members and get to know other great local businesses?</span></span></li>\n</ul>\n<span style="background-image:initial\;background-attachment:initial\;background-size:initial\;background-origin:initial\;background-clip:initial\;background-position:initial\;background-repeat:initial\;"><span style="font-family:arial\,sans-serif\;"><span style="font-size:10pt\;">Then sign up now and join us for a great evening full of information\, meet the Chamber team and all the other new businesses!</span></span></span><br />\n<br />\n<span style="font-family:arial\,sans-serif\;"><span style="font-size:10pt\;"><span style="background-image:initial\;background-attachment:initial\;background-size:initial\;background-origin:initial\;background-clip:initial\;background-position:initial\;background-repeat:initial\;">Did you know that if your business still doesn&#39\;t have a website\, you are still visible to the public through the Chamber&#39\;s online directory.&nbsp\;Did you know you are able manage the way your organization is presented on the website?&nbsp\;</span><br />\n<br />\n<span style="background-image:initial\;background-attachment:initial\;background-size:initial\;background-origin:initial\;background-clip:initial\;background-position:initial\;background-repeat:initial\;">Come and learn more about accessing your member profile and utilizing it to promote your business!</span></span></span><br />\n<br />\n<strong><span style="font-family:arial\,sans-serif\;"><span style="font-size:10.0pt\;">DON&#39\;T FORGET TO BRING AT LEAST 30 BUSINESS CARD</span></span></strong><span style="font-family:arial\,sans-serif\;"><span style="font-size:10.0pt\;">&nbsp\;for the networking portion</span></span>
LOCATION:Maple Ridge Library 22470 Dewdney Trunk Rd\, Maple Ridge\, BC V2X 7X7
UID:e.1210.847
SEQUENCE:3
DTSTAMP:20260422T174104Z
URL:https://business.ridgemeadowschamber.com/events/details/2015-base-camp-orientation-maple-ridge-library-06-18-2015-847
END:VEVENT

END:VCALENDAR
