BEGIN:VCALENDAR
VERSION:2.0
PRODID:-//ChamberMaster//Event Calendar 2.0//EN
METHOD:PUBLISH
X-PUBLISHED-TTL:P3D
REFRESH-INTERVAL:P3D
CALSCALE:GREGORIAN
BEGIN:VEVENT
DTSTART:20150222T020000Z
DTEND:20150223T075500Z
X-MICROSOFT-CDO-ALLDAYEVENT:FALSE
SUMMARY:2014 BEA Gala
DESCRIPTION:Business Excellence Awards Gala \nJoin us for the unveiling of the 2014 Business Excellence Awards Recipients!\n\n\n\nWe have planned a spectacular event for all! Come celebrate excellence and dance the night away to live Entertainment by our local favourite band "The Hits!"\n\n\n\nWe hope you will join us for an evening of recognition and celebration as we announce the 2014 Winners. \n\n\n\nThis year's Masquerade theme coincides with Mardi Gras as we unveil the Winners\; in addition it is the Grand Finale to Chamber Week\, February 16 - 20\, 2015.\n\n\n\nPlease let us know in advance of any food allergies or food requirements. \n\n2014 Business Excellence Awards Finalists\nSMALL BUSINESS OF THE YEAR (1 -20)\n\n\n	BLENZ Maple Ridge\n	Countrywide Communications Inc.\n	Maple Ridge Towing (1981) Ltd.\n\nBUSINESS OF THE YEAR (21+)\n\n\n	Euro-Rite Cabinets Ltd.\n	Hopcott Meats\n	Meadowridge School\n\nHOME-BASED BUSINESS\n\n\n	Amber Light Photography\n	Pacific Star Electric Inc.\n	Simplified Business Solutions\n\nNON-PROFIT ORGANIZATION OF THE YEAR\n\n\n	Alouette Addictions Services\n	Maple Ridge/Pitt Meadows Community Services\n	Ridge Meadows Association for Community Living\n\nCOMMUNITY SPIRIT AWARD\n\n\n	Keesha Rosario\n	Lorraine Bates & Tom Cameron\n	The Family Education & Support Centre\n\nAGRICULTURAL & AGRI-BUSINESS OF THE YEAR\n\n\n	Honeyland Canada\n	Meadows Maze\n\nBUSINESS LEADER OF THE YEAR\n\n\n	Dr.Cobi Slater\n	Fred Formosa\n	Vicki McLeod\n\n\n\n\nThank You To Our Gala Sponsors\nMedia Sponsor\n\n\n	Maple Ridge & Pitt Meadows News\n	Maple Ridge & Pitt Meadows Times\n\nPresenting Award Sponsor\n\n\n	TD Canada Trust\n\nPlatinum Sponsor\n\n\n	Chances Maple Ridge\n	Avanti Planning Group\n\nGold Sponsor\n\n\n	Meadows Landscape Supply\n\nEntertainment Sponsor\n\n\n	AVinhouse Event Videography\n\nPrize Sponsor\n\n\n	EPR Certified General Accountants\n	West Coast Auto Group\n\nVenue Sponsor\n\n\n	Meadow Gardens\n\nFloral Sponsor\n\n\n	Maple Ridge Florist\n\nPrint Sponsor\n\n\n	DNA Signs & Graphics\n\nPartial Sponsors\n\n\n	Little Black Box Photobooth
X-ALT-DESC;FMTTYPE=text/html:<h2 style="font-style:italic\;"><span style="font-size:18px\;"><strong><span style="background-image:initial\;background-attachment:initial\;background-size:initial\;background-origin:initial\;background-clip:initial\;background-position:initial\;background-repeat:initial\;">Business Excellence Awards Gala&nbsp\;</span></strong></span></h2>\n<span style="background-image:initial\;background-attachment:initial\;background-size:initial\;background-origin:initial\;background-clip:initial\;background-position:initial\;background-repeat:initial\;">Join us for the unveiling of the 2014 Business Excellence Awards Recipients!<br />\n<br />\nWe have planned a spectacular event for all!&nbsp\;Come celebrate excellence and dance the night away to live Entertainment by our local favourite&nbsp\;band &quot\;The Hits!&quot\;</span><br />\n<br />\n<span style="line-height: 20.7999992370605px\; background-image: initial\; background-attachment: initial\; background-size: initial\; background-origin: initial\; background-clip: initial\; background-position: initial\; background-repeat: initial\;">We hope you will join us&nbsp\;for an evening of recognition and celebration as we&nbsp\;announce the 2014 Winners.&nbsp\;</span><br style="line-height: 20.7999992370605px\;" />\n<br style="line-height: 20.7999992370605px\;" />\n<span style="line-height: 20.7999992370605px\; background-image: initial\; background-attachment: initial\; background-size: initial\; background-origin: initial\; background-clip: initial\; background-position: initial\; background-repeat: initial\;">This year&#39\;s Masquerade theme coincides with Mardi Gras&nbsp\;as we unveil the Winners\; in addition it is the Grand Finale to Chamber Week\,&nbsp\;</span><span style="line-height: 20.7999992370605px\;">February</span><span style="line-height: 20.7999992370605px\; background-image: initial\; background-attachment: initial\; background-size: initial\; background-origin: initial\; background-clip: initial\; background-position: initial\; background-repeat: initial\;">&nbsp\;16&nbsp\;- 20\, 2015.</span><br />\n<br />\n<span style="color: rgb(255\, 0\, 0)\; font-family: Arial\, Helvetica\, sans-serif\; font-size: 14px\; line-height: 18.2000007629395px\; background-color: rgb(255\, 255\, 255)\;"><em>Please let us know in advance of any food allergies or food requirements.&nbsp\;</em></span>\n\n<h2 style="font-style: italic\;"><span style="font-size: 18px\;"><strong><span style="background-image: initial\; background-attachment: initial\; background-size: initial\; background-origin: initial\; background-clip: initial\; background-position: initial\; background-repeat: initial\;">2014 Business Excellence Awards Finalists</span></strong></span></h2>\n<span style="font-family: verdana\;"><strong>SMALL BUSINESS OF THE YEAR (1 -20)</strong></span>\n\n<ul style="line-height: 20.7999992370605px\;">\n	<li><span style="font-family: verdana\;">BLENZ&nbsp\;Maple Ridge</span></li>\n	<li><span style="font-family: verdana\;">Countrywide Communications Inc.</span></li>\n	<li><span style="font-family: verdana\;">Maple Ridge Towing (1981) Ltd.</span></li>\n</ul>\n<span style="font-family: verdana\;"><strong>BUSINESS OF THE YEAR (21+)</strong></span>\n\n<ul style="line-height: 20.7999992370605px\;">\n	<li><span style="font-family: verdana\;">Euro-Rite Cabinets Ltd.</span></li>\n	<li><span style="font-family: verdana\;">Hopcott&nbsp\;Meats</span></li>\n	<li><span style="font-family: verdana\;">Meadowridge&nbsp\;School</span></li>\n</ul>\n<span style="font-family: verdana\;"><strong>HOME-BASED BUSINESS</strong></span>\n\n<ul style="line-height: 20.7999992370605px\;">\n	<li><span style="font-family: verdana\;">Amber Light Photography</span></li>\n	<li><span style="font-family: verdana\;">Pacific Star Electric Inc.</span></li>\n	<li><span style="font-family: verdana\;">Simplified Business Solutions</span></li>\n</ul>\n<span style="font-family: verdana\;"><strong>NON-PROFIT ORGANIZATION OF THE YEAR</strong></span>\n\n<ul style="line-height: 20.7999992370605px\;">\n	<li><span style="font-family: verdana\;">Alouette&nbsp\;Addictions Services</span></li>\n	<li><span style="font-family: verdana\;">Maple Ridge/Pitt Meadows Community Services</span></li>\n	<li><span style="font-family: verdana\;">Ridge Meadows Association for Community Living</span></li>\n</ul>\n<span style="font-family: verdana\;"><strong>COMMUNITY SPIRIT AWARD</strong></span>\n\n<ul style="line-height: 20.7999992370605px\;">\n	<li><span style="font-family: verdana\;">Keesha&nbsp\;Rosario</span></li>\n	<li><span style="font-family: verdana\;">Lorraine Bates &amp\; Tom Cameron</span></li>\n	<li><span style="font-family: verdana\;">The Family Education &amp\; Support Centre</span></li>\n</ul>\n<span style="font-family: verdana\;"><strong>AGRICULTURAL &amp\;&nbsp\;AGRI-BUSINESS&nbsp\;OF THE YEAR</strong></span>\n\n<ul style="line-height: 20.7999992370605px\;">\n	<li><span style="font-family: verdana\;">Honeyland&nbsp\;Canada</span></li>\n	<li><span style="font-family: verdana\;">Meadows Maze</span></li>\n</ul>\n<span style="font-family: verdana\;"><strong>BUSINESS LEADER OF THE YEAR</strong></span>\n\n<ul style="line-height: 20.7999992370605px\;">\n	<li><span style="font-family: verdana\;">Dr.Cobi Slater</span></li>\n	<li><span style="font-family: verdana\;">Fred Formosa</span></li>\n	<li><span style="font-family: verdana\;">Vicki McLeod</span></li>\n</ul>\n\n<h2 style="font-style:italic\;"><br />\n<span style="font-family:verdana\;"><strong>Thank You To Our Gala Sponsors</strong></span></h2>\n<span style="font-family:verdana\;"><strong>Media Sponsor</strong></span>\n\n<ul>\n	<li><span style="font-family:verdana\;">Maple Ridge &amp\; Pitt Meadows News</span></li>\n	<li><span style="font-family:verdana\;">Maple Ridge &amp\; Pitt Meadows Times</span></li>\n</ul>\n<span style="font-family:verdana\;"><strong>Presenting Award Sponsor</strong></span>\n\n<ul>\n	<li><span style="font-family:verdana\;">TD Canada Trust</span></li>\n</ul>\n<span style="font-family:verdana\;"><strong>Platinum Sponsor</strong></span>\n\n<ul>\n	<li><span style="font-family:verdana\;">Chances Maple Ridge</span></li>\n	<li><span style="font-family: verdana\;">Avanti&nbsp\;Planning Group</span></li>\n</ul>\n<span style="font-family:verdana\;"><strong>Gold Sponsor</strong></span>\n\n<ul>\n	<li><span style="font-family: verdana\;">Meadows Landscape Supply</span></li>\n</ul>\n<span style="font-family:verdana\;"><strong>Entertainment Sponsor</strong></span>\n\n<ul>\n	<li><span style="font-family:verdana\;">AVinhouse Event Videography</span></li>\n</ul>\n<span style="font-family:verdana\;"><strong>Prize Sponsor</strong></span>\n\n<ul>\n	<li><span style="font-family:verdana\;">EPR Certified General Accountants</span></li>\n	<li><span style="font-family:verdana\;">West Coast Auto Group</span></li>\n</ul>\n<span style="line-height: 18.9090900421143px\; font-family: verdana\;"><strong>Venue Sponsor</strong></span>\n\n<ul style="line-height: 18.9090900421143px\;">\n	<li><span style="font-family: verdana\;">Meadow Gardens</span></li>\n</ul>\n<span style="line-height: 18.9090900421143px\; font-family: verdana\;"><strong>Floral Sponsor</strong></span>\n\n<ul style="line-height: 18.9090900421143px\;">\n	<li><span style="font-family: verdana\;">Maple Ridge Florist</span></li>\n</ul>\n<span style="font-family:verdana\;"><strong>Print Sponsor</strong></span>\n\n<ul>\n	<li><span style="font-family:verdana\;">DNA Signs &amp\; Graphics</span></li>\n</ul>\n<span style="font-family:verdana\;"><strong>Partial Sponsors</strong></span>\n\n<ul style="line-height: 18.9090900421143px\;">\n	<li><span style="font-family: verdana\;">Little Black Box&nbsp\;Photobooth</span></li>\n</ul>\n<br />\n&nbsp\;
LOCATION:Meadow Gardens Country Club 19675 Meadow Gardens Way Pitt Meadows\, BC V3Y 1Z2
UID:e.1210.834
SEQUENCE:3
DTSTAMP:20260424T100949Z
URL:https://business.ridgemeadowschamber.com/events/details/2014-bea-gala-02-21-2015-834
END:VEVENT

END:VCALENDAR
