BEGIN:VCALENDAR
VERSION:2.0
PRODID:-//ChamberMaster//Event Calendar 2.0//EN
METHOD:PUBLISH
X-PUBLISHED-TTL:P3D
REFRESH-INTERVAL:P3D
CALSCALE:GREGORIAN
BEGIN:VEVENT
DTSTART:20141210T193000Z
DTEND:20141210T213000Z
X-MICROSOFT-CDO-ALLDAYEVENT:FALSE
SUMMARY:2014 Annual Christmas Luncheon
DESCRIPTION:WINTER WONDERLAND Christmas Party! \n\n\n\n It's that time again where everyone gets all warm and fuzzy\, Christmas is in the air. Last year's Christmas party was such a great success we are building on this and ensuring it is annual event. \n\n\n\nThis year we've added a couple of new things:\n\n	Balloon Burst - purchase a balloon\, pop it and find out what is tied to the end of the string... Everyone's a winner!\n	Silent Auction - Bid on some amazing items our members have donated for your enjoyment pleasure.. you have a chance to win the bid... "if the price is right"\n\nEnjoy a great meal\, visit Santa\, cross of some names on your shopping list and best of all have lots of fun!\n\n\n\nSpace is limited\, be sure to register early to secure your spot!\n\n\n\nPlease let us know in advance if you have any allergies or dietary concerns.\n\n\n\n\n\nPROMOTIONAL OPPORTUNITY FOR BUSINESSES\n\n         Want to PROMOTE your business?\n\n\n\nIf you are interested in gaining exposure for your company at our event\, consider donating to the Silent Auction\, door prizes or to the Balloon Burst? Contact the Chamber we would love to be able to promote and raise awareness of your organization's services and products.\n\n\n\nThis is a great opportunity for businesses to gain exposure and promote your services or wares. You can donate priceless experiences\, items of interest\, services\, baskets\, gift cards and much much more  be creative. \n\n\n\nPlease contact us to find out more about this opportunity @ 604.457.4599\n\n\n\nCome for Fun & Christmas Cheer!\n\n       Do your Christmas shopping at our silent auction!
X-ALT-DESC;FMTTYPE=text/html:<span style="border:none windowtext 1.0pt\;padding:0in\;"><span style="color:red\;"><span style="font-family:inherit\,serif\;"><span style="font-size:13.5pt\;">&nbsp\; &nbsp\; &nbsp\;WINTER WONDERLAND Christmas Party!&nbsp\;</span></span></span></span><br />\n<br />\n<span style="color:#444444\;"><span style="font-family:inherit\,serif\;"><span style="font-size:10.5pt\;">&nbsp\;It&#39\;s that time again where everyone gets all warm and fuzzy\, Christmas is in the air. Last year&#39\;s Christmas party was such a great success we are building on this and ensuring it is annual event.&nbsp\;<br />\n<br />\nThis year we&#39\;ve added a couple of new things:</span></span></span>\n<ul>\n	<li style="margin-bottom:.0001pt\;background:white\;vertical-align:baseline\;"><strong><span style="color:red\;"><span style="font-family:inherit\,serif\;"><span style="font-size:10.5pt\;">Balloon Burst</span></span></span></strong>&nbsp\;<span style="color:#444444\;"><span style="font-family:inherit\,serif\;"><span style="font-size:10.5pt\;">- purchase a balloon\, pop it and find out what is tied to the end of the string... Everyone&#39\;s a winner!</span></span></span></li>\n	<li style="margin-bottom:.0001pt\;background:white\;vertical-align:baseline\;"><strong><span style="color:red\;"><span style="font-family:inherit\,serif\;"><span style="font-size:10.5pt\;">Silent Auction</span></span></span></strong>&nbsp\;<span style="color:#444444\;"><span style="font-family:inherit\,serif\;"><span style="font-size:10.5pt\;">- Bid on some amazing items our members have donated for your enjoyment pleasure.. you have a chance to win the bid...</span></span></span><span style="color:#444444\;"><span style="font-family:inherit\,serif\;"><span style="font-size:10.5pt\;">&nbsp\;<em>&quot\;if the price is right&quot\;</em></span></span></span></li>\n</ul>\n<span style="color:#444444\;"><span style="font-family:inherit\,serif\;"><span style="font-size:10.5pt\;">Enjoy a great meal\, visit Santa\, cross of some names on your shopping list and best of all have lots of fun!<br />\n<br />\nSpace is limited\, be sure to register early to secure your spot!</span></span></span><br />\n<br />\n<span style="color:#0000FF\;"><strong>Please let us know in advance if you have any allergies or dietary concerns.</strong></span><br />\n<br />\n<br />\n<strong><span style="color:#444444\;"><span style="font-family:inherit\,serif\;"><span style="font-size:10.5pt\;">PROMOTIONAL OPPORTUNITY FOR BUSINESSES</span></span></span></strong><br />\n<span style="border:none windowtext 1.0pt\;padding:0in\;"><span style="color:#444444\;"><span style="font-family:arial\,sans-serif\;"><span style="font-size:10.5pt\;">&nbsp\; &nbsp\; &nbsp\; &nbsp\; &nbsp\;Want to PROMOTE your business?</span></span></span></span><br />\n<br />\n<span style="border:none windowtext 1.0pt\;padding:0in\;"><span style="color:#444444\;"><span style="font-family:arial\,sans-serif\;"><span style="font-size:10.5pt\;">If you are interested in gaining&nbsp\;exposure for your company at our event\, consider donating to the Silent Auction\, door prizes or to the Balloon Burst?&nbsp\;</span></span></span></span><span style="border:none windowtext 1.0pt\;padding:0in\;"><span style="color:#444444\;"><span style="font-family:inherit\,serif\;"><span style="font-size:10.5pt\;">Contact the Chamber we would love to be able to promote and raise awareness of your organization&#39\;s services and products.<br />\n<br />\nThis is a great opportunity for businesses to gain exposure and promote your services or wares. You can donate priceless experiences\, items of interest\, services\, baskets\, gift cards and much much more&hellip\; be creative.&nbsp\;</span></span></span></span><br />\n<br />\n<span style="border:none windowtext 1.0pt\;padding:0in\;"><span style="color:#444444\;"><span style="font-family:arial\,sans-serif\;"><span style="font-size:10.5pt\;">Please contact us to find out more about this opportunity @ 604.457.4599</span></span></span></span><br />\n<br />\n<strong><span style="color:red\;"><span style="font-family:inherit\,serif\;"><span style="font-size:12.0pt\;">Come for Fun &amp\; Christmas Cheer!</span></span></span></strong><br />\n<strong><span style="color:#444444\;"><span style="font-family:inherit\,serif\;"><span style="font-size:10.0pt\;">&nbsp\;&nbsp\; &nbsp\; &nbsp\; Do your Christmas shopping at our silent auction!</span></span></span></strong>
LOCATION:Ramada Inn Pitt Meadows 19267 Lougheed Highway Pitt Meadows\, BC V3Y 2J5
UID:e.1210.831
SEQUENCE:3
DTSTAMP:20260424T145931Z
URL:https://business.ridgemeadowschamber.com/events/details/2014-annual-christmas-luncheon-12-10-2014-831
END:VEVENT

END:VCALENDAR
